BEGIN:VCALENDAR
VERSION:2.0
PRODID:-//ChamberMaster//Event Calendar 2.0//EN
METHOD:PUBLISH
X-PUBLISHED-TTL:P3D
REFRESH-INTERVAL:P3D
CALSCALE:GREGORIAN
BEGIN:VEVENT
DTSTART:20101021T003000Z
DTEND:20101024T040000Z
X-MICROSOFT-CDO-ALLDAYEVENT:FALSE
SUMMARY:Zywiec's - Haunting 3D Experience
DESCRIPTION:Haunted house in 3D.  Zywiec's also has a corn maze - open Sat. & Sun. from 11 a.m. - 6 p.m.  for more information visit www.zywiecs.com.
X-ALT-DESC;FMTTYPE=text/html:<div>\n	<div>\n		Haunted house in 3D. &nbsp\;Zywiec&rsquo\;s also has a corn maze - open Sat. &amp\; Sun. from 11 a.m. - 6 p.m.&nbsp\; for more information visit <a href="http://www.zywiecs.com/" target="_blank">www.zywiecs.com</a>.&nbsp\;</div>\n</div>\n
LOCATION:9 miles south of Hwy. 494\, between Cottage Grove and Hastings
UID:e.606.111988
SEQUENCE:3
DTSTAMP:20260425T111524Z
URL:https://www.hastingsmn.org/events/details/zywiec-s-haunting-3d-experience-10-20-2010-111988
END:VEVENT

END:VCALENDAR
