BEGIN:VCALENDAR
VERSION:2.0
PRODID:-//ChamberMaster//Event Calendar 2.0//EN
METHOD:PUBLISH
X-PUBLISHED-TTL:P3D
REFRESH-INTERVAL:P3D
CALSCALE:GREGORIAN
BEGIN:VEVENT
DTSTART;VALUE=DATE:20091014
DTEND;VALUE=DATE:20091018
TRANSP:TRANSPARENT
X-MICROSOFT-CDO-ALLDAYEVENT:TRUE
SUMMARY:Zywiec's - Haunting 3D Experience
DESCRIPTION:Haunted house in 3D.  Zywiec's also has a corn maze full of dinosaurs - open Sat. & Sun. from 11 a.m. - 6 p.m.  for more information visit www.zywiecs.com.
X-ALT-DESC;FMTTYPE=text/html:<div>Haunted house in 3D. &nbsp\;Zywiec&rsquo\;s also has a corn maze full of dinosaurs - open Sat. &amp\; Sun. from 11 a.m. - 6 p.m.&nbsp\; for more information visit <a target="_blank" href="http://www.zywiecs.com/">www.zywiecs.com</a>.&nbsp\;</div>
LOCATION:9 miles south of Hwy. 494\, between Cottage Grove and Hastings
UID:e.606.110904
SEQUENCE:3
DTSTAMP:20260426T042253Z
URL:https://www.hastingsmn.org/events/details/zywiec-s-haunting-3d-experience-10-14-2009-110904
END:VEVENT

END:VCALENDAR
