BEGIN:VCALENDAR
VERSION:2.0
PRODID:-//ChamberMaster//Event Calendar 2.0//EN
METHOD:PUBLISH
X-PUBLISHED-TTL:P3D
REFRESH-INTERVAL:P3D
CALSCALE:GREGORIAN
BEGIN:VEVENT
DTSTART:20111008T003000Z
DTEND:20111009T040000Z
X-MICROSOFT-CDO-ALLDAYEVENT:FALSE
SUMMARY:Zywiec's - Haunting 3D Experience
DESCRIPTION:Haunted house in 3D.  Friday & Saturday: Dusk to 11 pm.  $19 per person\n\n			Includes 2 haunted houses\, haunted hayride\, bonfire\, 3D glasses\n		\n			Group rates available.\n\n			\n\n			Zywiec's also has a corn maze - open Sat. & Sun. from 11 a.m. - 6 p.m. \n		\n			The Low-Scare Matinee is geared towards a younger audience. It still includes a tour through the 3D House\, their main Haunted Mansion and a mile long hayride through their wooded trails and cornfields\, but it's more kid-friendly during the day.\n		\n			\n				\n					\n						\n							Age appropriate for 12 & under.\n\n							Food Shelf donations apply\, but no coupons \n						\n							Saturdays & Sundays in October\n						\n							October 15\, 16\, 22\, 23\, 29\, & 30   11AM - 5PM\n						\n							Adults and Children\n\n							$8 per person
X-ALT-DESC;FMTTYPE=text/html:<div>\n	<div>\n		<p>\n			Haunted house in 3D.&nbsp\;&nbsp\;Friday &amp\; Saturday: Dusk to 11 pm.&nbsp\; $19 per person<br />\n			Includes 2 haunted houses\, haunted hayride\, bonfire\, 3D glasses</p>\n		<p>\n			Group rates available.<br />\n			<br />\n			Zywiec&rsquo\;s also has a corn maze - open Sat. &amp\; Sun. from 11 a.m. - 6 p.m.&nbsp\;</p>\n		<p>\n			The Low-Scare Matinee is geared towards a younger audience. It still includes a tour through the 3D House\,&nbsp\;their main Haunted Mansion and a mile long hayride through their wooded trails and cornfields\, but it&rsquo\;s more kid-friendly during the day.</p>\n		<table border="0" cellpadding="3" cellspacing="0" width="95%">\n			<tbody>\n				<tr>\n					<td valign="top" width="54%">\n						<p align="center" class="bigRED">\n							<span style="font-size: 10px"><strong class="blackFont">Age appropriate for 12 &amp\; under.</strong><br />\n							<em>Food Shelf donations apply\, but no coupons </em></span></p>\n						<p align="center" class="GreenHeaderText">\n							<span style="font-size: 10px"><span class="BIGRED"><span class="bigRED">Saturdays &amp\; Sundays in October</span></span></span></p>\n						<p align="center" class="MEDIUMRED">\n							<span style="font-size: 10px"><span class="bigRED">October 15\, 16\, 22\, 23\, 29\, &amp\; 30 &bull\; 11AM - 5PM</span></span></p>\n						<p align="center" class="bigRED">\n							<span style="font-size: 10px">Adults and Children<br />\n							$8 per person</span><span _fck_bookmark="1" style="display: none">&nbsp\;</span></p>\n					</td>\n				</tr>\n			</tbody>\n		</table>\n	</div>\n</div>\n
LOCATION:9 miles south of Hwy. 494\, between Cottage Grove and Hastings
UID:e.606.113324
SEQUENCE:3
DTSTAMP:20260420T191924Z
URL:https://www.hastingsmn.org/events/details/zywiec-s-haunting-3d-experience-10-07-2011-113324
END:VEVENT

END:VCALENDAR
