BEGIN:VCALENDAR
VERSION:2.0
PRODID:-//ChamberMaster//Event Calendar 2.0//EN
METHOD:PUBLISH
X-PUBLISHED-TTL:P3D
REFRESH-INTERVAL:P3D
CALSCALE:GREGORIAN
BEGIN:VEVENT
DTSTART:20130325T213000Z
DTEND:20130325T230000Z
X-MICROSOFT-CDO-ALLDAYEVENT:FALSE
SUMMARY:YMCA in Hastings Open House for new Branch Manager
DESCRIPTION:The Y in Hastings and Community Board of Directors will be welcoming Derrick Jaeger\, New Branch Executive.
X-ALT-DESC;FMTTYPE=text/html:The Y in Hastings and Community Board of Directors will be welcoming Derrick Jaeger\, New Branch Executive.<br />\n<br />\n
LOCATION:YMCA in Hastings 85 Pleasant Drive Hastings\, MN
UID:e.606.113793
SEQUENCE:3
DTSTAMP:20260419T131547Z
URL:https://www.hastingsmn.org/events/details/ymca-in-hastings-open-house-for-new-branch-manager-03-25-2013-113793
END:VEVENT

END:VCALENDAR
