BEGIN:VCALENDAR
VERSION:2.0
PRODID:-//ChamberMaster//Event Calendar 2.0//EN
METHOD:PUBLISH
X-PUBLISHED-TTL:P3D
REFRESH-INTERVAL:P3D
CALSCALE:GREGORIAN
BEGIN:VEVENT
DTSTART:20130510T000000Z
DTEND:20130510T010000Z
X-MICROSOFT-CDO-ALLDAYEVENT:FALSE
SUMMARY:Yellow Ribbon Community Meeting
DESCRIPTION:A community conversation will be held on May 9th\, 7 p.m.\, at the Nelson Lucking American Legion Post. A representative from Congressional John Kline's office will be present.
X-ALT-DESC;FMTTYPE=text/html:<p class="MsoNoSpacing" style="margin: 0in 0in 0pt">\n	<span style="font-family: 'Arial'\, 'sans-serif'"><font color="#000000"><font size="3">A community conversation will be held on May 9</font><sup><font size="2">th</font></sup><font size="3">\, 7 p.m.\, at the Nelson Lucking American Legion Post. A representative from Congressional John Kline&#39\;s office will be present.<o:p></o:p></font></font></span></p>\n
LOCATION:Nelson Lucking American Legion Post 47 30 Sibley St. Hastings
UID:e.606.113811
SEQUENCE:3
DTSTAMP:20260421T082533Z
URL:https://www.hastingsmn.org/events/details/yellow-ribbon-community-meeting-05-09-2013-113811
END:VEVENT

END:VCALENDAR
