BEGIN:VCALENDAR
VERSION:2.0
PRODID:-//ChamberMaster//Event Calendar 2.0//EN
METHOD:PUBLISH
X-PUBLISHED-TTL:P3D
REFRESH-INTERVAL:P3D
CALSCALE:GREGORIAN
BEGIN:VEVENT
DTSTART:20100625T230000Z
DTEND:20100626T010000Z
X-MICROSOFT-CDO-ALLDAYEVENT:FALSE
SUMMARY:Wine\, Women & Baseball
DESCRIPTION:Join them for a fun evening with the Miesville Mudheds.   Men are welcome\, too.  Join The Busted Nut and other vendors including: Hastings Gift\, Garden & Floral\, Alexis Bailly Vineyard\, Current of Mississippi\, Hidden Green Golf Course\, Lillians\, Dawn from Brie's \, Beaded Bracelets\, Bekima Knits\, Tastefully Simple\, Mary Kay and Chicken Scratch Beads.
X-ALT-DESC;FMTTYPE=text/html:<div>&nbsp\;</div><div>Join them for a fun evening with the Miesville Mudheds.&nbsp\;&nbsp\; Men are welcome\, too.&nbsp\;</div><div>&nbsp\;</div><div>Join The Busted Nut and other vendors including: Hastings Gift\, Garden &amp\; Floral\, Alexis Bailly Vineyard\, Current of Mississippi\, Hidden Green Golf Course\, Lillians\, Dawn from Brie's \, Beaded Bracelets\, Bekima Knits\, Tastefully Simple\, Mary Kay and Chicken Scratch Beads.</div>
LOCATION:Jack Ruhr Field - Hwy. 61 in Miesville
UID:e.606.111603
SEQUENCE:3
DTSTAMP:20260425T153506Z
URL:https://www.hastingsmn.org/events/details/wine-women-baseball-06-25-2010-111603
END:VEVENT

END:VCALENDAR
