BEGIN:VCALENDAR
VERSION:2.0
PRODID:-//ChamberMaster//Event Calendar 2.0//EN
METHOD:PUBLISH
X-PUBLISHED-TTL:P3D
REFRESH-INTERVAL:P3D
CALSCALE:GREGORIAN
BEGIN:VEVENT
DTSTART:20100127T220000Z
DTEND:20100128T010000Z
X-MICROSOFT-CDO-ALLDAYEVENT:FALSE
SUMMARY:WESTconsin Real Estate Open House
DESCRIPTION:Come meet Gina Baumann\, WESTconsin Realty LLC RealtorEnjoy refreshments!
X-ALT-DESC;FMTTYPE=text/html:<div>Come meet Gina Baumann\, WESTconsin Realty LLC&nbsp\;Realtor</div><div>Enjoy refreshments!</div>
LOCATION:1400 North Acres RdPrescott\, WI
UID:e.606.111506
SEQUENCE:3
DTSTAMP:20260425T224927Z
URL:https://www.hastingsmn.org/events/details/westconsin-real-estate-open-house-01-27-2010-111506
END:VEVENT

END:VCALENDAR
