BEGIN:VCALENDAR
VERSION:2.0
PRODID:-//ChamberMaster//Event Calendar 2.0//EN
METHOD:PUBLISH
X-PUBLISHED-TTL:P3D
REFRESH-INTERVAL:P3D
CALSCALE:GREGORIAN
BEGIN:VEVENT
DTSTART:20101030T150000Z
DTEND:20101031T190000Z
X-MICROSOFT-CDO-ALLDAYEVENT:FALSE
SUMMARY:Welcome Center Open at Wyndham Hills Development
DESCRIPTION:Welcome Center Open House for neighborhood information relating to Wyndham Hills. We have home packages available from $275k including the lot\, concrete driveway\, complete lawn and landscaping package.
X-ALT-DESC;FMTTYPE=text/html:Welcome Center Open House for neighborhood information relating to Wyndham Hills. We have home packages available from $275k including the lot\, concrete driveway\, complete lawn and landscaping package.
LOCATION:1750 Fallbrooke Drive
UID:e.606.112001
SEQUENCE:3
DTSTAMP:20260425T111529Z
URL:https://www.hastingsmn.org/events/details/welcome-center-open-at-wyndham-hills-development-10-30-2010-112001
END:VEVENT

END:VCALENDAR
