BEGIN:VCALENDAR
VERSION:2.0
PRODID:-//ChamberMaster//Event Calendar 2.0//EN
METHOD:PUBLISH
X-PUBLISHED-TTL:P3D
REFRESH-INTERVAL:P3D
CALSCALE:GREGORIAN
BEGIN:VEVENT
DTSTART:20100612T173000Z
DTEND:20100612T220000Z
X-MICROSOFT-CDO-ALLDAYEVENT:FALSE
SUMMARY:Watercolor Seasons
DESCRIPTION:Opening Reception\, June 12\, 12:30-2 p.m.\,Open Wednesdays: 9-5\; Thursdays: 9-8\; Fridays: 9-5\; Saturdays\; 10-3.  FREE. Features 20 watercolorists with Signature piece by Art Thell.
X-ALT-DESC;FMTTYPE=text/html:Opening Reception\, June 12\, 12:30-2 p.m.\,Open Wednesdays: 9-5\; Thursdays: 9-8\; Fridays: 9-5\; Saturdays\; 10-3.  FREE. Features 20 watercolorists with Signature piece by Art Thell.
LOCATION:Lawshe Memorial Museum\, Dakota County Historical Society - 130 Third Avenue North\,South St. Paul\, MN 55075
UID:e.606.111573
SEQUENCE:3
DTSTAMP:20260425T153513Z
URL:https://www.hastingsmn.org/events/details/watercolor-seasons-06-12-2010-111573
END:VEVENT

END:VCALENDAR
