BEGIN:VCALENDAR
VERSION:2.0
PRODID:-//ChamberMaster//Event Calendar 2.0//EN
METHOD:PUBLISH
X-PUBLISHED-TTL:P3D
REFRESH-INTERVAL:P3D
CALSCALE:GREGORIAN
BEGIN:VEVENT
DTSTART:20110501T140000Z
DTEND:20110501T150000Z
X-MICROSOFT-CDO-ALLDAYEVENT:FALSE
SUMMARY:Walk MS: Christopher & Banks Walk 2011 presented by Walser
DESCRIPTION:You can bring us closer to a world free of multiple sclerosis. Walk in one of 18 Minnesota and western Wisconsin sites\, May 1\, 2011. Walk MS is a simple\, but incredibly powerful way for you to share in the hope for the future. It is a day to come together\, to be together\, to celebrate the movement together. Register now for Walk MS. For more information\, visit walkMSminnesota.org or call 800-582-5296.
X-ALT-DESC;FMTTYPE=text/html:You can bring us closer to a world free of multiple sclerosis. Walk in one of 18 Minnesota and western Wisconsin sites\, May 1\, 2011. Walk MS is a simple\, but incredibly powerful way for you to share in the hope for the future. It is a day to come together\, to be together\, to celebrate the movement together. Register now for Walk MS. For more information\, visit walkMSminnesota.org or call 800-582-5296. 
LOCATION:American Legion Post 47
UID:e.606.112262
SEQUENCE:3
DTSTAMP:20260421T060641Z
URL:https://www.hastingsmn.org/events/details/walk-ms-christopher-banks-walk-2011-presented-by-walser-05-01-2011-112262
END:VEVENT

END:VCALENDAR
