BEGIN:VCALENDAR
VERSION:2.0
PRODID:-//ChamberMaster//Event Calendar 2.0//EN
METHOD:PUBLISH
X-PUBLISHED-TTL:P3D
REFRESH-INTERVAL:P3D
CALSCALE:GREGORIAN
BEGIN:VEVENT
DTSTART:20100502T140000Z
DTEND:20100502T170000Z
X-MICROSOFT-CDO-ALLDAYEVENT:FALSE
SUMMARY:Walk MS: Christopher & Banks Walk 2010
DESCRIPTION:You can bring us closer to a world free of MS. Walk in one of 18 Minnesota and western Wisconsin sites\, May 2\, 2010. Walk MS is a simple\, but incredibly powerful way for you to share in the hope for the future. It is a day to come together\, to be together\, to celebrate the movement together.
X-ALT-DESC;FMTTYPE=text/html:You can bring us closer to a world free of MS. Walk in one of 18 Minnesota and western Wisconsin sites\, May 2\, 2010. Walk MS is a simple\, but incredibly powerful way for you to share in the hope for the future. It is a day to come together\, to be together\, to celebrate the movement together. 
LOCATION:American Legion Post 47 50 Sibley St.\, Hastings\, MN 55033
UID:e.606.111527
SEQUENCE:3
DTSTAMP:20260425T170259Z
URL:https://www.hastingsmn.org/events/details/walk-ms-christopher-banks-walk-2010-05-02-2010-111527
END:VEVENT

END:VCALENDAR
