BEGIN:VCALENDAR
VERSION:2.0
PRODID:-//ChamberMaster//Event Calendar 2.0//EN
METHOD:PUBLISH
X-PUBLISHED-TTL:P3D
REFRESH-INTERVAL:P3D
CALSCALE:GREGORIAN
BEGIN:VEVENT
DTSTART:20100710T000000Z
DTEND:20100711T210000Z
X-MICROSOFT-CDO-ALLDAYEVENT:FALSE
SUMMARY:Wacipi Pow Wow
DESCRIPTION:The Prairie Island Indian Community hosts their annual Pow Wow. Experience Native American history and traditions through these exciting competitions. Grand Entry performances begin the Pow Wow each day starting on Friday\, July 9 at 7pm\, Saturday\, July 10 at 1pm and 7pm and Sunday\, July 11 at 1pm. Grand Entry is a time to honor veterans and announce the different styles of dancers.\n\nThis event features dancers and drummers from all around the United States and Canada. The dancers are grouped by style and age\, and they compete for cash prizes. The judging is based on creativity\, keeping the beat and stopping at the right moment. In addition to the dancers and drummers\, the Pow Wow offers delicious Native American food and crafts. There will be a wide array of Indian arts\, handmade crafts and jewelry for sale as well as traditional Native American foods available all day during the Pow Wow.\n\nJoin in the pageantry and rich heritage of colorful apparel\, breathtaking tribal dances and beautiful traditional songs. Come to watch\, listen and feel Native American culture and history come alive. The celebration is outdoors next to Treasure Island Resort & Casino. Admission to the Pow Wow is free and open to all ages. For more information call the Prairie Island Indian Community at 1-800-554-5473.
X-ALT-DESC;FMTTYPE=text/html:<div><div><font size="2" face="Arial"><p>The Prairie Island Indian Community hosts their annual Pow Wow. Experience Native American history and traditions through these exciting competitions. Grand Entry performances begin the Pow Wow each day starting on Friday\, July 9 at 7pm\, Saturday\, July 10 at 1pm and 7pm and Sunday\, July 11 at 1pm. Grand Entry is a time to honor veterans and announce the different styles of dancers.<br /><br />This event features dancers and drummers from all around the United States and Canada. The dancers are grouped by style and age\, and they compete for cash prizes. The judging is based on creativity\, keeping the beat and stopping at the right moment. In addition to the dancers and drummers\, the Pow Wow offers delicious Native American food and crafts. There will be a wide array of Indian arts\, handmade crafts and jewelry for sale as well as traditional Native American foods available all day during the Pow Wow.<br /><br />Join in the pageantry and rich heritage of colorful apparel\, breathtaking tribal dances and beautiful traditional songs. Come to watch\, listen and feel Native American culture and history come alive. The celebration is outdoors next to Treasure Island Resort &amp\; Casino. Admission to the Pow Wow is free and open to all ages. For more information call the Prairie Island Indian Community at 1-800-554-5473.</p></font></div></div>
LOCATION:Treasure Island Resort & Casino5734 Sturgeon Lake RoadWelch MN 55089
UID:e.606.111812
SEQUENCE:3
DTSTAMP:20260425T153507Z
URL:https://www.hastingsmn.org/events/details/wacipi-pow-wow-07-09-2010-111812
END:VEVENT

END:VCALENDAR
