BEGIN:VCALENDAR
VERSION:2.0
PRODID:-//ChamberMaster//Event Calendar 2.0//EN
METHOD:PUBLISH
X-PUBLISHED-TTL:P3D
REFRESH-INTERVAL:P3D
CALSCALE:GREGORIAN
BEGIN:VEVENT
DTSTART:20100912T180000Z
DTEND:20100912T210000Z
X-MICROSOFT-CDO-ALLDAYEVENT:FALSE
SUMMARY:Vintage Baseball
DESCRIPTION:For the third time\, the Denmark Demons vintage base ball team will try to overcome the Saint Croix Base Ball Club in a game played by 1860s rules. The game starts at 1:30 p.m.  The  public is invited to come at 1 p.m. for refreshments such as hot dogs and popcorn plus entertainment by the barbershop quartet "Eight Foot Four."  There is no admission charge. Everyone should bring a folding chair or blanket. The Saint Croix Base Ball Club is sponsored by the Washington County Historical Society and the Denmark Township Historical Society sponsors the Denmark Demons. Team members play by old rules that define base ball as a "gentleman's game."  Players wear vintage clothing and play without gloves\, which were not introduced until 1875. The pitcher throws underhand and delivers the ball to the "striker's" liking. The striker is out when the ball is caught on the fly or on the first bounce. No betting or swearing is allowed.
X-ALT-DESC;FMTTYPE=text/html:<div><table><tbody><tr><td class="arl12-lft"><p><span style="font-size: xx-small"><span style="font-family: Arial">For the third time\, the Denmark Demons vintage base ball team will try to overcome the Saint Croix Base Ball Club in a game played by 1860s rules. The game starts at 1:30 p.m.&nbsp\; The&nbsp\;&nbsp\;public is invited to come at 1 p.m. for&nbsp\;refreshments such as hot dogs and popcorn plus entertainment by&nbsp\;the barbershop quartet &quot\;Eight Foot Four.&quot\;&nbsp\; There is no admission charge. Everyone should bring a folding chair or blanket.</span></span></p></td></tr><tr><td class="arl5-248"><span style="font-size: xx-small"><span style="font-family: Arial">&nbsp\;</span></span></td></tr><tr><td class="arl12-lft"><p><span style="font-size: xx-small"><span style="font-family: Arial">The Saint Croix Base Ball Club is sponsored by the Washington County Historical Society and the Denmark Township Historical Society sponsors the Denmark Demons. Team members play by&nbsp\;old rules that define base ball as a &quot\;gentleman&rsquo\;s game.&quot\;&nbsp\;&nbsp\;Players wear vintage clothing and play without gloves\, which were not introduced until 1875.&nbsp\;The pitcher throws underhand and delivers the ball to the &quot\;striker&rsquo\;s&quot\; liking. The striker is out when the ball is caught on the fly or on the first bounce. No&nbsp\;betting or swearing is allowed.&nbsp\;</span></span></p></td></tr></tbody></table></div>
LOCATION:Denmark Town Hall \, 90th and Oakgreen in Denmark Township \, South Washington County .
UID:e.606.111963
SEQUENCE:3
DTSTAMP:20260425T111410Z
URL:https://www.hastingsmn.org/events/details/vintage-baseball-09-12-2010-111963
END:VEVENT

END:VCALENDAR
