BEGIN:VCALENDAR
VERSION:2.0
PRODID:-//ChamberMaster//Event Calendar 2.0//EN
METHOD:PUBLISH
X-PUBLISHED-TTL:P3D
REFRESH-INTERVAL:P3D
CALSCALE:GREGORIAN
BEGIN:VEVENT
DTSTART:20111210T160000Z
DTEND:20111211T230000Z
X-MICROSOFT-CDO-ALLDAYEVENT:FALSE
SUMMARY:Victorian Holidays at the LeDuc
DESCRIPTION:Take a step back in time and enjoy the splendor of the elegantly decorated Victorian LeDuc Historic Estate\, 1629 Vermillion Street\, Hastings\, during the first two Saturdays and Sundays in the month of December. The museum store will be open for shopping where guests will find gifts to purchase for their friends and relatives who have discriminating taste. Should large groups like to book a visit\, please call ahead @ 651-437-7055 to ensure that there will be a sufficient number of tour guides on hand.\n\n	A 4-course Victorian Holiday Dinner on December 4\, 5-9 p.m.\, will be an event for creating beautiful memories.
X-ALT-DESC;FMTTYPE=text/html:<p>\n	Take a step back in time and enjoy the splendor of the elegantly decorated Victorian LeDuc Historic Estate\, 1629 Vermillion Street\, Hastings\, during the first two Saturdays and Sundays in the month of December. The museum store will be open for shopping where guests will find gifts to purchase for their friends and relatives who have discriminating taste. Should large groups like to book a visit\, please call ahead @ 651-437-7055 to ensure that there will be a sufficient number of tour guides on hand.</p>\n<div>\n	A&nbsp\;4-course <strong><em><span style="color: #ff0000">Victorian Holiday Dinner on December 4\, 5-9 p.m</span></em></strong>.\, will be an event for creating beautiful memories.</div>\n
LOCATION:LeDuc Historic Estate\, 1629 Vermillion Street
UID:e.606.113331
SEQUENCE:3
DTSTAMP:20260420T160505Z
URL:https://www.hastingsmn.org/events/details/victorian-holidays-at-the-leduc-12-10-2011-113331
END:VEVENT

END:VCALENDAR
