BEGIN:VCALENDAR
VERSION:2.0
PRODID:-//ChamberMaster//Event Calendar 2.0//EN
METHOD:PUBLISH
X-PUBLISHED-TTL:P3D
REFRESH-INTERVAL:P3D
CALSCALE:GREGORIAN
BEGIN:VEVENT
DTSTART:20121208T160000Z
DTEND:20121209T230000Z
X-MICROSOFT-CDO-ALLDAYEVENT:FALSE
SUMMARY:Victorian Holidays at the LeDuc
DESCRIPTION:Take a step back in time and enjoy the splendor of the elegantly decorated Victorian LeDuc Historic Estate\, 1629 Vermillion Street\, Hastings\, during the first two Saturdays and Sundays in the month of December. The museum store will be open for shopping where guests will find gifts to purchase for their friends and relatives who have discriminating taste. Should large groups like to book a visit\, please call ahead @ 651-437-7055 to ensure that there will be a sufficient number of tour guides on hand.\n\n	Victorian Holiday Dinner on December 2\, 4 - 7:30 p.m.\, an event for creating beautiful memories. Reservations are required\; prospective guests should call 651-437-7055 very soon\, as seating is limited.
X-ALT-DESC;FMTTYPE=text/html:<p>\n	Take a step back in time and enjoy the splendor of the elegantly decorated Victorian LeDuc Historic Estate\, 1629 Vermillion Street\, Hastings\, during the first two Saturdays and Sundays in the month of December. The museum store will be open for shopping where guests will find gifts to purchase for their friends and relatives who have discriminating taste. Should large groups like to book a visit\, please call ahead @ 651-437-7055 to ensure that there will be a sufficient number of tour guides on hand.</p>\n<div>\n	<strong><em><span style="color: #ff0000">Victorian Holiday Dinner on December 2\, 4 - 7:30 p.m</span></em></strong>.\, an event for creating beautiful memories. Reservations are required\; prospective guests should call 651-437-7055 very soon\, as seating is limited.&nbsp\;&nbsp\;<span _fck_bookmark="1" style="display: none">&nbsp\;</span></div>\n
LOCATION:LeDuc Historic Estate\, 1629 Vermillion Street
UID:e.606.113380
SEQUENCE:3
DTSTAMP:20260419T201527Z
URL:https://www.hastingsmn.org/events/details/victorian-holidays-at-the-leduc-12-08-2012-113380
END:VEVENT

END:VCALENDAR
