BEGIN:VCALENDAR
VERSION:2.0
PRODID:-//ChamberMaster//Event Calendar 2.0//EN
METHOD:PUBLISH
X-PUBLISHED-TTL:P3D
REFRESH-INTERVAL:P3D
CALSCALE:GREGORIAN
BEGIN:VEVENT
DTSTART:20110614T220000Z
DTEND:20110614T233000Z
X-MICROSOFT-CDO-ALLDAYEVENT:FALSE
SUMMARY:Veterans Higher Education Seminar
DESCRIPTION:Jun 14th\, Tuesday\, 5 p.m.\,   6:30 p.m.\, Veterans Higher Educational Seminar\, Dakota County Technical College\, A Beyond the Yellow Ribbon Campus\, 1300 145th Street East\, Rosemount\, MN  55068 Learn about: Higher education planning\, Veterans education benefits\, Beyond the Yellow Ribbon Network\, and Army ROTC. Active-duty military personnel\, veterans\, family members\, guidance counselors and community members are invited to attend. Seminar presented by: MDVA-Higher Education Veterans Program & Dakota County Technical College\, a member of the Minnesota State Colleges and Universities System. Questions? Contact Student Life Director Nicole Meulemans at nicole.meulemans@dctc.edu or 651-423-8403  Additional information is located at: http://blogs.dctc.edu/youblue/2011/06/01/veterans-higher-educational-seminar/
X-ALT-DESC;FMTTYPE=text/html:<p class="MsoNormal" style="margin: 0in 0in 0pt">\n	<span style="font-size: 11px"><span style="font-family: arial\; mso-bidi-font-size: 12.0pt">Jun 14<sup>th</sup>\, Tuesday\, 5 p.m.\, &ndash\; 6:30 p.m.\, Veterans Higher Educational Seminar\, Dakota County Technical College\, A Beyond the Yellow Ribbon Campus\, 1300 145<sup>th</sup> Street East\, Rosemount\, MN<span style="mso-spacerun: yes">&nbsp\; </span>55068 Learn about: Higher education planning\, Veterans education benefits\, Beyond the Yellow Ribbon Network\, and Army ROTC. Active-duty military personnel\, veterans\, family members\, guidance counselors and community members are invited to attend. Seminar presented by: MDVA-Higher Education Veterans Program &amp\; Dakota County Technical College\, a member of the Minnesota State Colleges and Universities System. Questions? Contact Student Life Director Nicole Meulemans at nicole.meulemans@dctc.edu or 651-423-8403&nbsp\; Additional information is located at: <a href="http://blogs.dctc.edu/youblue/2011/06/01/veterans-higher-educational-seminar/" title="http://blogs.dctc.edu/youblue/2011/06/01/veterans-higher-educational-seminar/"><font color="#800080">http://blogs.dctc.edu/youblue/2011/06/01/veterans-higher-educational-seminar/</font></a></span></span><br />\n	&nbsp\;</p>\n
LOCATION:Dakota County TEchnical College\, 1300 145th Street East\, Roemount\, MN 55068
UID:e.606.113267
SEQUENCE:3
DTSTAMP:20260421T041438Z
URL:https://www.hastingsmn.org/events/details/veterans-higher-education-seminar-06-14-2011-113267
END:VEVENT

END:VCALENDAR
