BEGIN:VCALENDAR
VERSION:2.0
PRODID:-//ChamberMaster//Event Calendar 2.0//EN
METHOD:PUBLISH
X-PUBLISHED-TTL:P3D
REFRESH-INTERVAL:P3D
CALSCALE:GREGORIAN
BEGIN:VEVENT
DTSTART:20121112T163000Z
DTEND:20121112T173000Z
X-MICROSOFT-CDO-ALLDAYEVENT:FALSE
SUMMARY:Veterans Day Observation at Kennedy Elementary School
DESCRIPTION:Principals of all schools narrating wishes and salutes by all fourth grade students and an address by the Honorable Paul J Hicks\, Mayor.
X-ALT-DESC;FMTTYPE=text/html:<div style="color: gray">\n	<font size="2"><font face="Arial">Principals of all schools narrating wishes and salutes by all&nbsp\;fourth grade students and an address by the Honorable Paul J Hicks\, Mayor.<span _fck_bookmark="1" style="display: none">&nbsp\;</span></font></font></div>\n
LOCATION:Kennedy Elementary School 1176 Tyler Street Hastings\, MN \, MN\, \,
UID:e.606.113732
SEQUENCE:3
DTSTAMP:20260419T201646Z
URL:https://www.hastingsmn.org/events/details/veterans-day-observation-at-kennedy-elementary-school-11-12-2012-113732
END:VEVENT

END:VCALENDAR
