BEGIN:VCALENDAR
VERSION:2.0
PRODID:-//ChamberMaster//Event Calendar 2.0//EN
METHOD:PUBLISH
X-PUBLISHED-TTL:P3D
REFRESH-INTERVAL:P3D
CALSCALE:GREGORIAN
BEGIN:VEVENT
DTSTART:20121114T153000Z
DTEND:20121114T163000Z
X-MICROSOFT-CDO-ALLDAYEVENT:FALSE
SUMMARY:Veterans Day Observance Essay Winner - SEAS
DESCRIPTION:Fourth grade students have sent out personalized invitations. Come hear the school's Patriot Pen essay winner give his/her speech on "What I would tell America's Founding Fathers." ..
X-ALT-DESC;FMTTYPE=text/html:<div style="color: gray">\n	<font size="2"><font face="Arial">Fourth grade students have sent out personalized invitations. Come hear the school&#39\;s Patriot Pen essay winner give his/her speech on <strong>&quot\;<em><i><span style="font-family: arial">What I would tell </span></i></em></strong><em><i><span style="font-family: arial"><st1:country-region w:st="on"><st1:place w:st="on"><strong>America</strong></st1:place></st1:country-region></span></i></em><strong><em><i><span style="font-family: arial">&#39\;s Founding Fathers.</span></i></em>&quot\;</strong><span _fck_bookmark="1" style="display: none">&nbsp\;..</span></font></font></div>\n
LOCATION:St Elizabeth Ann Seton Catholic School 600 Tyler St. Hastings\, MN
UID:e.606.113733
SEQUENCE:3
DTSTAMP:20260419T201700Z
URL:https://www.hastingsmn.org/events/details/veterans-day-observance-essay-winner-seas-11-14-2012-113733
END:VEVENT

END:VCALENDAR
