BEGIN:VCALENDAR
VERSION:2.0
PRODID:-//ChamberMaster//Event Calendar 2.0//EN
METHOD:PUBLISH
X-PUBLISHED-TTL:P3D
REFRESH-INTERVAL:P3D
CALSCALE:GREGORIAN
BEGIN:VEVENT
DTSTART:20121112T233000Z
DTEND:20121113T020000Z
X-MICROSOFT-CDO-ALLDAYEVENT:FALSE
SUMMARY:Veterans Day Observance Dinner & Celebration
DESCRIPTION:5:30 pm (dinner) and 6:30 pm (program)\n\n	Hastings Armory\n\n	Classic Roast Beef dinner\n\n	\n\n	Commander Diane says this year's program will be a big surprise to the community. Tickets are available at the American Legion or Veterans of Foreign Wars (Wednesday and Saturday\, 11 - 2 pm).  Any questions contact the American Legion (651) 437-2046.\n\n	\n\n	Restored World War II and Korean War vehicles will be on display a the event as well as newer military vehicles.  There will also be people dressed in World War II period uniforms and dress.\n\n	Restored
X-ALT-DESC;FMTTYPE=text/html:<div style="color: gray">\n	<font size="2"><font face="Arial">5:30 pm (dinner) and 6:30 pm (program)<br />\n	Hastings Armory<br />\n	Classic Roast Beef dinner<br />\n	<br />\n	Commander Diane says this year&#39\;s program will be a big surprise to the community. Tickets are available at the American Legion or Veterans of Foreign Wars (Wednesday and Saturday\, 11 - 2&nbsp\;pm).&nbsp\; Any questions contact the American Legion (651) 437-2046.<br />\n	<br />\n	Restored World War II and Korean War vehicles will be on display a the event as well as newer military vehicles.&nbsp\; There will also be people dressed in World War II period uniforms and dress.<br />\n	<span _fck_bookmark="1" style="display: none">Restored</span></font></font></div>\n
LOCATION:Hastings Armory Minnesota National Guard 3050 Minnesota 316 Hastings\, MN 55033
UID:e.606.113731
SEQUENCE:3
DTSTAMP:20260419T215226Z
URL:https://www.hastingsmn.org/events/details/veterans-day-observance-dinner-celebration-11-12-2012-113731
END:VEVENT

END:VCALENDAR
