BEGIN:VCALENDAR
VERSION:2.0
PRODID:-//ChamberMaster//Event Calendar 2.0//EN
METHOD:PUBLISH
X-PUBLISHED-TTL:P3D
REFRESH-INTERVAL:P3D
CALSCALE:GREGORIAN
BEGIN:VEVENT
DTSTART:20121111T160000Z
DTEND:20121111T180000Z
X-MICROSOFT-CDO-ALLDAYEVENT:FALSE
SUMMARY:Veterans Day Observance at MN Veterans Home
DESCRIPTION:Come meet and thank the residents. Hospitality following the program.
X-ALT-DESC;FMTTYPE=text/html:<div style="color: gray">\n	<font size="2"><font face="Arial">Come meet and thank the residents.&nbsp\;Hospitality following the program.<span _fck_bookmark="1" style="display: none">&nbsp\;</span></font></font></div>\n
LOCATION:Minnesota Veterans Home - Hastings Gymnasium 1200 East 18th St. Hastings
UID:e.606.113730
SEQUENCE:3
DTSTAMP:20260419T215627Z
URL:https://www.hastingsmn.org/events/details/veterans-day-observance-at-mn-veterans-home-11-11-2012-113730
END:VEVENT

END:VCALENDAR
