BEGIN:VCALENDAR
VERSION:2.0
PRODID:-//ChamberMaster//Event Calendar 2.0//EN
METHOD:PUBLISH
X-PUBLISHED-TTL:P3D
REFRESH-INTERVAL:P3D
CALSCALE:GREGORIAN
BEGIN:VEVENT
DTSTART:20121106T010000Z
DTEND:20121106T030000Z
X-MICROSOFT-CDO-ALLDAYEVENT:FALSE
SUMMARY:Veterans Day Observance at City Hall
DESCRIPTION:City Council meeting.  Reading of the Mayoral Letter to all Soldiers\, Airman\, Sailors\, Marines and Family Members.  An annual report of Beyond the Yellow Ribbon initiative will also be provided.
X-ALT-DESC;FMTTYPE=text/html:City Council meeting.&nbsp\; Reading of the Mayoral Letter to all Soldiers\, Airman\, Sailors\, Marines and Family Members.&nbsp\; An annual report of Beyond the Yellow Ribbon initiative will also be provided.
LOCATION:City Hall 101 4th St. E Hastings\, MN
UID:e.606.113728
SEQUENCE:3
DTSTAMP:20260419T215523Z
URL:https://www.hastingsmn.org/events/details/veterans-day-observance-at-city-hall-11-05-2012-113728
END:VEVENT

END:VCALENDAR
