BEGIN:VCALENDAR
VERSION:2.0
PRODID:-//ChamberMaster//Event Calendar 2.0//EN
METHOD:PUBLISH
X-PUBLISHED-TTL:P3D
REFRESH-INTERVAL:P3D
CALSCALE:GREGORIAN
BEGIN:VEVENT
DTSTART:20111112T003000Z
DTEND:20111112T020000Z
X-MICROSOFT-CDO-ALLDAYEVENT:FALSE
SUMMARY:Veterans' Day Dinner & Program
DESCRIPTION:Veteran's Day Dinner & Program\, Friday\, November 11\, 2011\, 6:30 pm dinner. Location: Green Mill Event Center @ School House Square\, 10th & Vermillion. Tickets: $11.00. Available anytime at Green Mill\, American Legion\, and VFW. Hosted by Lyle Russell Post VFW Post 1210.
X-ALT-DESC;FMTTYPE=text/html:<span class="messageBody translationEligibleUserMessage" data-ft="{&quot\;type&quot\;:3}">Veteran&#39\;s Day Dinner &amp\; Program\, Friday\, November 11\, 2011\, 6:30 pm dinner. Location: Green Mill Event Center @ School House Square\, 10th &amp\; Vermillion. Tickets: $11.00. Available anytime at Green Mill\, American Legion\, and VFW. Hosted by Lyle Russell Post VFW Post 1210.</span>
LOCATION:Green Mill Event Center\, @ School House Square\, 10th & Vermillion
UID:e.606.113335
SEQUENCE:3
DTSTAMP:20260420T173015Z
URL:https://www.hastingsmn.org/events/details/veterans-day-dinner-program-11-11-2011-113335
END:VEVENT

END:VCALENDAR
