BEGIN:VCALENDAR
VERSION:2.0
PRODID:-//ChamberMaster//Event Calendar 2.0//EN
METHOD:PUBLISH
X-PUBLISHED-TTL:P3D
REFRESH-INTERVAL:P3D
CALSCALE:GREGORIAN
BEGIN:VEVENT
DTSTART:20120901T150000Z
DTEND:20120901T163000Z
X-MICROSOFT-CDO-ALLDAYEVENT:FALSE
SUMMARY:Vermillion Falls Walking Tour
DESCRIPTION:A special opportunity is being offered at 10 a.m. on Saturday\, September 1 & October 6\, the Vermillion Falls Walking tour.  Participants will enjoy an historic walking tour of Hastings' most beautiful park\, just blocks from the LeDuc Historic Estate.  They will learn how the Vermillion River and the milling industry shaped Hastings while taking in the natural beauty of the river and breathtaking falls.  Tour rates are the same as at the Estate or visitors may purchase a discount package for $10 (for adults) which includes a tour of both the Estate and the walking tour.  Reservations are     REQUIRED and prospective participants should call 651-437-7055 or e-mail leduc@co.dakota.mn.us.
X-ALT-DESC;FMTTYPE=text/html:A special opportunity is being offered at 10 a.m. on Saturday\, September 1 &amp\; October 6\, the Vermillion Falls Walking tour. &nbsp\;Participants will enjoy an historic walking tour of Hastings&#39\; most beautiful park\, just blocks from the LeDuc Historic Estate. &nbsp\;They will learn how the Vermillion River and the milling industry shaped Hastings while taking in the natural beauty of the river and breathtaking falls. &nbsp\;Tour rates are the same as at the Estate or visitors may purchase a discount package for $10 (for adults) which includes a tour of both the Estate and the walking tour. &nbsp\;Reservations are &nbsp\; &nbsp\; REQUIRED and prospective participants should call 651-437-7055 or e-mail leduc@co.dakota.mn.us.
LOCATION:LeDuc Historic Estate - 1629 Vermillion St.\, Hastings\, MN 55033
UID:e.606.113702
SEQUENCE:3
DTSTAMP:20260420T012738Z
URL:https://www.hastingsmn.org/events/details/vermillion-falls-walking-tour-09-01-2012-113702
END:VEVENT

END:VCALENDAR
