BEGIN:VCALENDAR
VERSION:2.0
PRODID:-//ChamberMaster//Event Calendar 2.0//EN
METHOD:PUBLISH
X-PUBLISHED-TTL:P3D
REFRESH-INTERVAL:P3D
CALSCALE:GREGORIAN
BEGIN:VEVENT
DTSTART:20100322T230000Z
DTEND:20100323T010000Z
X-MICROSOFT-CDO-ALLDAYEVENT:FALSE
SUMMARY:United Way of Hastings Annual Meeting & Recognition Event -- 45th Anniversary
DESCRIPTION:45th Anniversary of United Way of Hastings including annual business meeting and recognition of volunteers by Board of Directors.
X-ALT-DESC;FMTTYPE=text/html:45th Anniversary of United Way of Hastings including annual business meeting and recognition of volunteers by Board of Directors.  
LOCATION:Event Center at Schoolhouse Square
UID:e.606.111517
SEQUENCE:3
DTSTAMP:20260425T195213Z
URL:https://www.hastingsmn.org/events/details/united-way-of-hastings-annual-meeting-recognition-event-45th-anniversary-03-22-2010-111517
END:VEVENT

END:VCALENDAR
