BEGIN:VCALENDAR
VERSION:2.0
PRODID:-//ChamberMaster//Event Calendar 2.0//EN
METHOD:PUBLISH
X-PUBLISHED-TTL:P3D
REFRESH-INTERVAL:P3D
CALSCALE:GREGORIAN
BEGIN:VEVENT
DTSTART:20120216T230000Z
DTEND:20120217T030000Z
X-MICROSOFT-CDO-ALLDAYEVENT:FALSE
SUMMARY:Ultimate Girls Night Out
DESCRIPTION:Ultimate Girls Night Out   \n\n	Bring all of your girlfriends!  Stroll through the town receiving discounts\, watching demonstrations\, and receive freebies. Some of the discounts include 50% off a room at the Afton House Inn\, Swirl is giving a month membership to the wine club to some lucky person to name a few.   Each month it changes so it will never be the same. Check the Afton Area chamber for up to date information.  Gift bags will be given out at Swirl for the first 30 people.  www.aftonmnarea.com
X-ALT-DESC;FMTTYPE=text/html:<h1 style="margin: 0in 0in 0pt">\n	<span style="font-weight: normal"><font size="3"><font color="#000000"><font face="Times New Roman">Ultimate Girls Night Out &ndash\; </font></font></font></span><br />\n	<span style="font-size: 11px"><span style="font-family: verdana"><font color="#000000">Bring all of your girlfriends!<span style="mso-spacerun: yes">&nbsp\; </span>Stroll through the town receiving discounts\, watching demonstrations\, and receive freebies.<span style="mso-spacerun: yes">&nbsp\;Some of the discounts include 50% off a room at the Afton House Inn\, Swirl is giving a month membership to the wine club to some lucky person to name a few.&nbsp\; &nbsp\;</span>Each month it&nbsp\;changes so it will never be the same. Check the Afton Area chamber for up to date information.<span style="mso-spacerun: yes">&nbsp\; </span>Gift bags will be given out at&nbsp\;Swirl for the first 30 people.<span style="mso-spacerun: yes">&nbsp\; </span>www.aftonmnarea.com</font></span></span></h1>\n<p class="MsoNormal" style="margin: 0in 0in 0pt">\n	<span style="font-size: 8pt\; mso-bidi-font-size: 12.0pt"><font color="#000000"><font face="Times New Roman">&nbsp\;</font></font></span></p>\n
LOCATION:Afton\, MN
UID:e.606.113397
SEQUENCE:3
DTSTAMP:20260420T141320Z
URL:https://www.hastingsmn.org/events/details/ultimate-girls-night-out-02-16-2012-113397
END:VEVENT

END:VCALENDAR
