BEGIN:VCALENDAR
VERSION:2.0
PRODID:-//ChamberMaster//Event Calendar 2.0//EN
METHOD:PUBLISH
X-PUBLISHED-TTL:P3D
REFRESH-INTERVAL:P3D
CALSCALE:GREGORIAN
BEGIN:VEVENT
DTSTART:20111013T140000Z
DTEND:20111013T230000Z
X-MICROSOFT-CDO-ALLDAYEVENT:FALSE
SUMMARY:Treasure Island Cruise
DESCRIPTION:Back by popular demand we've added one more Treasure Island Cruise this year.  Enjoy a delicious brunch buffet while cruising along the scenic St. Croix River to Treasure Island Resort & Casino. Bus will pick you up at the marina and take you to the casino for 4 hours of exciting gaming\, plus you will receive $15 in slot play. You will be brought back to Hudson by bus. The return bus pick up time is 5 p.m. in the bingo area.
X-ALT-DESC;FMTTYPE=text/html:<p class="MsoNormal" style="margin: 0in 0in 0pt">\n	<span style="font-size: 11px"><span style="mso-bidi-font-size: 12.0pt"><font color="#000000">Back by popular demand we&#39\;ve added one more Treasure Island Cruise this year.&nbsp\; Enjoy a delicious brunch buffet while cruising along the scenic St. Croix River to Treasure Island Resort &amp\; Casino. Bus will pick you up at the marina and take you to the casino for 4 hours of exciting gaming\, plus you will receive $15 in slot play. You will be brought back to Hudson by bus. The return bus pick up time is 5 p.m. in the bingo area.</font></span></span></p>\n
LOCATION:Boarding from: 98 Walnut Street\, Hudson\, WI 54016 on the Grand Duchess
UID:e.606.113334
SEQUENCE:3
DTSTAMP:20260420T192140Z
URL:https://www.hastingsmn.org/events/details/treasure-island-cruise-10-13-2011-113334
END:VEVENT

END:VCALENDAR
