BEGIN:VCALENDAR
VERSION:2.0
PRODID:-//ChamberMaster//Event Calendar 2.0//EN
METHOD:PUBLISH
X-PUBLISHED-TTL:P3D
REFRESH-INTERVAL:P3D
CALSCALE:GREGORIAN
BEGIN:VEVENT
DTSTART:20120605T140000Z
DTEND:20120605T220000Z
X-MICROSOFT-CDO-ALLDAYEVENT:FALSE
SUMMARY:Treasure Island Cruise
DESCRIPTION:You will delight in a buffet brunch on your relaxing cruise to Treasure Island.  Once at the casino you will receive a play card with $15  loaded on it for slot play.  At 5 pm you will be picked up in the Bingo area  and bussed back to your car in Hudson.
X-ALT-DESC;FMTTYPE=text/html:<span style="font-family: verdana"><span style="font-size: 11px"><span style="mso-fareast-font-family: 'times new roman'\; mso-ansi-language: en-us\; mso-fareast-language: en-us\; mso-bidi-language: ar-sa"><font color="#000000">You will delight in a buffet brunch on your relaxing cruise to Treasure Island.<span style="mso-spacerun: yes">&nbsp\; </span>Once at the casino you will receive a play card with $15&nbsp\; loaded on it for slot play.<span style="mso-spacerun: yes">&nbsp\; </span>At 5&nbsp\;pm you will be picked up in the Bingo area&nbsp\; and bussed back to your car in Hudson.<span style="mso-spacerun: yes">&nbsp\; </span></font></span></span></span>
LOCATION:98 Walnut Street\, Hudson WI 54016
UID:e.606.113675
SEQUENCE:3
DTSTAMP:20260420T051302Z
URL:https://www.hastingsmn.org/events/details/treasure-island-cruise-06-05-2012-113675
END:VEVENT

END:VCALENDAR
