BEGIN:VCALENDAR
VERSION:2.0
PRODID:-//ChamberMaster//Event Calendar 2.0//EN
METHOD:PUBLISH
X-PUBLISHED-TTL:P3D
REFRESH-INTERVAL:P3D
CALSCALE:GREGORIAN
BEGIN:VEVENT
DTSTART:20100720T140000Z
DTEND:20100720T170000Z
X-MICROSOFT-CDO-ALLDAYEVENT:FALSE
SUMMARY:Treasure Island Casino Cruise
DESCRIPTION:Enjoy a delicious Breakfast Buffet while you cruise along the Scenic St. Croix \n\n& Mississippi Rivers to Treasure Island Resort and Casino. \n\n\n\nFresh Fruit - Cheese Tray - Assorted Chef's Composed Salads - Scrambled Eggs - Sausage Links -Apple Pancakes with Syrup - Herbed Roasted Potatoes - Hot Vegetable Medley - Herb Baked Chicken - Baked Cod - Rolls & Butter - Coffee - Assorted Pastries\n\n\n\nYou receive $15 slot play from the casino. After 4 hours of exciting gaming take it easy on a luxurious bus ride back to Hudson.\n\n\n\nAdvance ticket purchase required. Tickets are non-refundable.
X-ALT-DESC;FMTTYPE=text/html:Enjoy a delicious Breakfast Buffet while you cruise along the Scenic St. Croix \n<br>&amp\; Mississippi Rivers to Treasure Island Resort and Casino. \n<br>\n<br>Fresh Fruit - Cheese Tray - Assorted Chef's Composed Salads - Scrambled Eggs - Sausage Links -Apple Pancakes with Syrup - Herbed Roasted Potatoes - Hot Vegetable Medley - Herb Baked Chicken - Baked Cod - Rolls &amp\; Butter - Coffee - Assorted Pastries\n<br>\n<br>You receive $15 slot play from the casino. After 4 hours of exciting gaming take it easy on a luxurious bus ride back to Hudson.\n<br>\n<br>Advance ticket purchase required. Tickets are non-refundable.
LOCATION:500 1st St. Hudson\, WI 54016
UID:e.606.111570
SEQUENCE:3
DTSTAMP:20260425T141302Z
URL:https://www.hastingsmn.org/events/details/treasure-island-casino-cruise-07-20-2010-111570
END:VEVENT

END:VCALENDAR
