BEGIN:VCALENDAR
VERSION:2.0
PRODID:-//ChamberMaster//Event Calendar 2.0//EN
METHOD:PUBLISH
X-PUBLISHED-TTL:P3D
REFRESH-INTERVAL:P3D
CALSCALE:GREGORIAN
BEGIN:VEVENT
DTSTART:20100622T140000Z
DTEND:20100622T173000Z
X-MICROSOFT-CDO-ALLDAYEVENT:FALSE
SUMMARY:Treasure Island Casino Cruise
DESCRIPTION:Enjoy a delicious Breakfast Buffet while you cruise along the Scenic St. Croix & Mississippi Rivers to Treasure Island Resort and Casino. Then eceive $15 slot play from the casino. After 4 hours of gaming take a luxurious bus ride back to Hudson.\n\n\n\nFresh Fruit - Cheese Tray - Assorted Chef's Composed Salads - Scrambled Eggs \n\nSausage Links -Apple Pancakes with Syrup \n\nHerbed Roasted Potatoes-Hot Vegetable Medley\n\nHerb Baked Chicken - Baked Cod \n\nRolls & Butter - Coffee - Assorted Pastries\n\n\n\nAdvance ticket purchase required.  Tickets are non-refundable
X-ALT-DESC;FMTTYPE=text/html:Enjoy a delicious Breakfast Buffet while you cruise along the Scenic St. Croix &amp\; Mississippi Rivers to Treasure Island Resort and Casino. Then eceive $15 slot play from the casino. After 4 hours of gaming take a luxurious bus ride back to Hudson.\n<br>\n<br>Fresh Fruit - Cheese Tray - Assorted Chef's Composed Salads - Scrambled Eggs \n<br>Sausage Links -Apple Pancakes with Syrup \n<br>Herbed Roasted Potatoes-Hot Vegetable Medley\n<br>Herb Baked Chicken - Baked Cod \n<br>Rolls &amp\; Butter - Coffee - Assorted Pastries\n<br>\n<br>Advance ticket purchase required.  Tickets are non-refundable
LOCATION:500 1st St. Hudson\, WI 54016
UID:e.606.111564
SEQUENCE:3
DTSTAMP:20260425T153629Z
URL:https://www.hastingsmn.org/events/details/treasure-island-casino-cruise-06-22-2010-111564
END:VEVENT

END:VCALENDAR
