BEGIN:VCALENDAR
VERSION:2.0
PRODID:-//ChamberMaster//Event Calendar 2.0//EN
METHOD:PUBLISH
X-PUBLISHED-TTL:P3D
REFRESH-INTERVAL:P3D
CALSCALE:GREGORIAN
BEGIN:VEVENT
DTSTART:20090926T140000Z
DTEND:20090926T220000Z
X-MICROSOFT-CDO-ALLDAYEVENT:FALSE
SUMMARY:Third Annual LeDuc/Simmons Country Market
DESCRIPTION:There will be an antique and collectible flea market in the Simmons Activity Room. Throughout the Estate Grounds there will be large plant and bake sales\, and 15 vendors will provide a variety of fresh produce\, jams\, jellies & preserves\, jewelry\, hand painted cards\, textile art\, and other arts and craft items. Proceeds from these sales will go towards the free school tour program which is offered to school classes throughout the state of Minnesota.  For more information\, call 651-437-7055 or visit www.dakotahistory.org
X-ALT-DESC;FMTTYPE=text/html:<div><font size="1" face="Verdana">There will be an antique and collectible flea market in the Simmons Activity Room. Throughout the Estate Grounds there will be large plant and bake sales\, and 15 vendors will provide a variety of fresh produce\, jams\, jellies &amp\; preserves\, jewelry\, hand painted cards\, textile art\, and other arts and craft items. Proceeds from these sales will go towards the free school tour program which is offered to school classes throughout the state of Minnesota.&nbsp\; For more information\, call 651-437-7055 or visit </font><a target="_blank" href="http://www.dakotahistory.org/"><font size="1" face="Verdana">www.dakotahistory.org</font></a></div>
LOCATION:LeDuc Historic Estate\, 1629 Vermillion Street
UID:e.606.110901
SEQUENCE:3
DTSTAMP:20260426T042312Z
URL:https://www.hastingsmn.org/events/details/third-annual-leduc-simmons-country-market-09-26-2009-110901
END:VEVENT

END:VCALENDAR
