BEGIN:VCALENDAR
VERSION:2.0
PRODID:-//ChamberMaster//Event Calendar 2.0//EN
METHOD:PUBLISH
X-PUBLISHED-TTL:P3D
REFRESH-INTERVAL:P3D
CALSCALE:GREGORIAN
BEGIN:VEVENT
DTSTART:20111002T170000Z
DTEND:20111002T190000Z
X-MICROSOFT-CDO-ALLDAYEVENT:FALSE
SUMMARY:Theater Brunch Cruise
DESCRIPTION:Upon boarding you will receive a glass of champagne.  During this two hour cruise you will enjoy breakfast and lunch entrees along with salads\, and other side items.  After the cruise a short walk from the boat to the Phipps Theater to enjoy the play Bloody Murder.
X-ALT-DESC;FMTTYPE=text/html:Upon boarding you will receive a glass of champagne.&nbsp\; During this two hour cruise you will enjoy breakfast and lunch entrees along with salads\, and other side items.&nbsp\; After the cruise a short walk from the boat to the Phipps Theater to&nbsp\;enjoy the play Bloody Murder.
LOCATION:98 Walnut Street\, Hudson\, WI aboard the Grand Duchess
UID:e.606.113310
SEQUENCE:3
DTSTAMP:20260420T205115Z
URL:https://www.hastingsmn.org/events/details/theater-brunch-cruise-10-02-2011-113310
END:VEVENT

END:VCALENDAR
