BEGIN:VCALENDAR
VERSION:2.0
PRODID:-//ChamberMaster//Event Calendar 2.0//EN
METHOD:PUBLISH
X-PUBLISHED-TTL:P3D
REFRESH-INTERVAL:P3D
CALSCALE:GREGORIAN
BEGIN:VEVENT
DTSTART:20120827T000000Z
DTEND:20120827T013000Z
X-MICROSOFT-CDO-ALLDAYEVENT:FALSE
SUMMARY:The Jolly Huntsmen Concert at the LeDuc Mansion
DESCRIPTION:The Hastings Concert Association and numerous Hastings area businesses sponsor free outdoor concerts on Sunday evenings in August.  The concerts are held on the estate of the LeDuc Mansion on Vermillion Street in Hastings\, MN.  Everyone is welcome to attend.  Pie\, ice cream\, and coffee will be available for purchase from local civic groups.  The LeDuc Mansion is open for tours (prices vary) prior to the concerts.  Please bring a lawn chair to sit on.  In case of inclement weather\, the concerts will be moved inside to Our Savior's Lutheran Church in Hastings.  Brochures and tickets for the upcoming 2012   2013 Hastings Concert Association series held at the Hastings Middle School auditorium are also available for purchase at the free August concerts.
X-ALT-DESC;FMTTYPE=text/html:<p class="MsoNormal">\n	<span style="line-height: 115%\; font-size: 14pt">The Hastings Concert Association and numerous Hastings area businesses sponsor free outdoor concerts on Sunday evenings in August.<span style="mso-spacerun: yes">&nbsp\; </span>The concerts are held on the estate of the LeDuc Mansion on Vermillion Street in Hastings\, MN.<span style="mso-spacerun: yes">&nbsp\; </span>Everyone is welcome to attend.<span style="mso-spacerun: yes">&nbsp\; </span>Pie\, ice cream\, and coffee will be available for purchase from local civic groups.<span style="mso-spacerun: yes">&nbsp\; </span>The LeDuc Mansion is open for tours (prices vary) prior to the concerts.<span style="mso-spacerun: yes">&nbsp\; </span>Please bring a lawn chair to sit on.<span style="mso-spacerun: yes">&nbsp\; </span>In case of inclement weather\, the concerts will be moved inside to Our Savior&rsquo\;s Lutheran Church in Hastings.<span style="mso-spacerun: yes">&nbsp\; </span>Brochures and tickets for the upcoming 2012 &ndash\; 2013 Hastings Concert Association series held at the Hastings Middle School auditorium are also available for purchase at the free August concerts.</span></p>\n
LOCATION:LeDuc Mansion estate on Vermillion Street in Hastings
UID:e.606.113685
SEQUENCE:3
DTSTAMP:20260420T013904Z
URL:https://www.hastingsmn.org/events/details/the-jolly-huntsmen-concert-at-the-leduc-mansion-08-26-2012-113685
END:VEVENT

END:VCALENDAR
