BEGIN:VCALENDAR
VERSION:2.0
PRODID:-//ChamberMaster//Event Calendar 2.0//EN
METHOD:PUBLISH
X-PUBLISHED-TTL:P3D
REFRESH-INTERVAL:P3D
CALSCALE:GREGORIAN
BEGIN:VEVENT
DTSTART;VALUE=DATE:20100910
DTEND;VALUE=DATE:20100913
TRANSP:TRANSPARENT
X-MICROSOFT-CDO-ALLDAYEVENT:TRUE
SUMMARY:Tee It Up For The Troops
DESCRIPTION:A Weekend of Golf!  For Military and Their Families(Sept. 10th is National Day of Golf for Troops)  All Golfers are invited to play golf and help acknowledge and honor the sacrifice of all military veterans and their families.  Each participating golf course will request a minimum $1 donation for each green fee they process from non-military golfers.  Your donation will go to TEE IT UP FOR THE TROOPS a 501c(3) non-profit organization established for family and friends of a soldier serving in the U.S. Army.
X-ALT-DESC;FMTTYPE=text/html:<div>A Weekend of Golf!&nbsp\; For Military and Their Families</div><div>(Sept. 10th is National Day of Golf for Troops)&nbsp\;</div><div>&nbsp\;</div><div>All Golfers are invited to play golf and help acknowledge and honor the sacrifice of all military veterans and their families.&nbsp\; Each participating golf course will request a minimum $1 donation for each green fee they process from non-military golfers.&nbsp\; Your donation will go to TEE IT UP FOR THE TROOPS a 501c(3) non-profit organization established for family and friends of a soldier serving in the U.S. Army.&nbsp\;</div>
LOCATION:Participating Hastings Golf Courses: Afton Alps\, 6600 Peller Ave S - (651) 436-1320Bellwood Oaks\, 13239 210th St E - (651) 437-4141Emerald Greens\, 14425 Goodwin Ave - (651) 480-8558Hidden Greens\, 12977 200th St E - (651) 437-3085 Contact each golf course for details.
UID:e.606.111953
SEQUENCE:3
DTSTAMP:20260425T111441Z
URL:https://www.hastingsmn.org/events/details/tee-it-up-for-the-troops-09-10-2010-111953
END:VEVENT

END:VCALENDAR
