BEGIN:VCALENDAR
VERSION:2.0
PRODID:-//ChamberMaster//Event Calendar 2.0//EN
METHOD:PUBLISH
X-PUBLISHED-TTL:P3D
REFRESH-INTERVAL:P3D
CALSCALE:GREGORIAN
BEGIN:VEVENT
DTSTART;VALUE=DATE:20110909
DTEND;VALUE=DATE:20110912
TRANSP:TRANSPARENT
X-MICROSOFT-CDO-ALLDAYEVENT:TRUE
SUMMARY:Tee It Up For The Troops
DESCRIPTION:Sep 9-11th\, Tee It Up For The Troops\, Hidden Greens\, Bellwood Oaks\, Emerald Greens and Afton Alps will be hosting Tee it up for the Troops.  This will be a day for our brave military soldiers and their families.  Service members and veterans golf FREE!  Immediate family member's green frees are 50% off.  Riding carts additional.  Tee times and military ID required. All non-military golfers are invited to play golf and make a minimum $1 donation for each green fee to help us acknowledge and honor the sacrifices of all military veterans and their families.
X-ALT-DESC;FMTTYPE=text/html:<p class="MsoNormal" style="margin: 0in 0in 0pt">\n	<span style="font-family: arial\; font-size: 10pt\; mso-bidi-font-size: 12.0pt"><font color="#000000">Sep 9-11<sup>th</sup>\, Tee It Up For The Troops\, Hidden Greens\, Bellwood Oaks\, Emerald Greens and Afton Alps will be hosting Tee it up for the Troops.<span style="mso-spacerun: yes">&nbsp\; </span>This will be a day for our brave military soldiers and their families.<span style="mso-spacerun: yes">&nbsp\; Service members</span> and veterans golf FREE!<span style="mso-spacerun: yes">&nbsp\; </span>Immediate family member&rsquo\;s green frees are 50% off.<span style="mso-spacerun: yes">&nbsp\; </span>Riding carts additional.<span style="mso-spacerun: yes">&nbsp\; </span>Tee times and military ID required. All non-military golfers are invited to play golf and make a minimum $1 donation for each green fee to help us acknowledge and honor the sacrifices of all military veterans and their families.</font></span></p>\n
LOCATION:Hidden Greens\, Bellwood Oaks\, Emerald Greens\, and Afton Alps\, Hastings\, MN
UID:e.606.113295
SEQUENCE:3
DTSTAMP:20260420T223939Z
URL:https://www.hastingsmn.org/events/details/tee-it-up-for-the-troops-09-09-2011-113295
END:VEVENT

END:VCALENDAR
