BEGIN:VCALENDAR
VERSION:2.0
PRODID:-//ChamberMaster//Event Calendar 2.0//EN
METHOD:PUBLISH
X-PUBLISHED-TTL:P3D
REFRESH-INTERVAL:P3D
CALSCALE:GREGORIAN
BEGIN:VEVENT
DTSTART:20110511T150000Z
DTEND:20110511T160000Z
X-MICROSOFT-CDO-ALLDAYEVENT:FALSE
SUMMARY:Tea for New Volunteers at the LeDuc Historic Estate
DESCRIPTION:People interested in becoming volunteers at the LeDuc Historic Estate are invited to a tea for potential volunteers at the estate on May 11\, 10-11 a.m.  Please call 651-437-7055 to make a reservation & learn more.  Opportunities available as house hosts/hostesses\, providing treats for special events\, performing in drama\, story telling\, gardening\, setting up exhibits\, office support\, computer assistance\, maintenance & chicken chores.  Come join the fun!!
X-ALT-DESC;FMTTYPE=text/html:People interested in becoming volunteers at the LeDuc Historic Estate are invited to a tea for potential volunteers at the estate on May 11\, 10-11 a.m.  Please call 651-437-7055 to make a reservation &amp\; learn more.  Opportunities available as house hosts/hostesses\, providing treats for special events\, performing in drama\, story telling\, gardening\, setting up exhibits\, office support\, computer assistance\, maintenance &amp\; chicken chores.  Come join the fun!!
LOCATION:LeDuc Historic Estate 1629 Vermillion Street\, Hastings\, MN 55033
UID:e.606.112787
SEQUENCE:3
DTSTAMP:20260421T044403Z
URL:https://www.hastingsmn.org/events/details/tea-for-new-volunteers-at-the-leduc-historic-estate-05-11-2011-112787
END:VEVENT

END:VCALENDAR
