BEGIN:VCALENDAR
VERSION:2.0
PRODID:-//ChamberMaster//Event Calendar 2.0//EN
METHOD:PUBLISH
X-PUBLISHED-TTL:P3D
REFRESH-INTERVAL:P3D
CALSCALE:GREGORIAN
BEGIN:VEVENT
DTSTART:20100617T233000Z
DTEND:20100618T020000Z
X-MICROSOFT-CDO-ALLDAYEVENT:FALSE
SUMMARY:Taste of the Saint Croix Wine & Dinner Cruise
DESCRIPTION:Taste food from the hottest St. Croix Valley Restaurants while cruising on the St Croix River and enjoying over 40 wines with a Riedel crystal glass that is yours to keep.\n\n\n\nParticipating Restaurants:\n\nAfton House Inn - Catfish Cafe - Muddy Waters - Lake Elmo Inn - Pier 500 - Agave Kitchen - Domacin Wine Bar  \n\n\n\nGuest Emcee will be on board to host a Silent Auction. 10% of ticket sales will benefit Perspective's Kids Cafe.\n\n\n\nReservations required.
X-ALT-DESC;FMTTYPE=text/html:Taste food from the hottest St. Croix Valley Restaurants while cruising on the St Croix River and enjoying over 40 wines with a Riedel crystal glass that is yours to keep.\n<br>\n<br>Participating Restaurants:\n<br>Afton House Inn - Catfish Cafe - Muddy Waters - Lake Elmo Inn - Pier 500 - Agave Kitchen - Domacin Wine Bar  \n<br>\n<br>Guest Emcee will be on board to host a Silent Auction. 10% of ticket sales will benefit Perspective's Kids Cafe.\n<br>\n<br>Reservations required.
LOCATION:500 1st St\, Hudson WI
UID:e.606.111577
SEQUENCE:3
DTSTAMP:20260425T153802Z
URL:https://www.hastingsmn.org/events/details/taste-of-the-saint-croix-wine-dinner-cruise-06-17-2010-111577
END:VEVENT

END:VCALENDAR
