BEGIN:VCALENDAR
VERSION:2.0
PRODID:-//ChamberMaster//Event Calendar 2.0//EN
METHOD:PUBLISH
X-PUBLISHED-TTL:P3D
REFRESH-INTERVAL:P3D
CALSCALE:GREGORIAN
BEGIN:VEVENT
DTSTART:20120922T150000Z
DTEND:20120922T220000Z
X-MICROSOFT-CDO-ALLDAYEVENT:FALSE
SUMMARY:Take Me To The River - Art Show & Sale\, Leduc Siimmons Country Market
DESCRIPTION:This free event brings a farmers market\, antiques\, food artisans\, and local artists to the grounds of the LeDuc Historic Estate for one day only!  You'll be delighted with the variety of art\, artist and cooking demonstrations\, delicious food\, and great antiques and collectibles. Sponsored in part by the Hastings-Prescott Area Arts Council\, Friends of LeDuc of Historic Hastings\, and ArtReach St. Croix.
X-ALT-DESC;FMTTYPE=text/html:<div>\n	<span style="font-size: 11px"><span style="font-family: verdana"><span style="color: black">This free event brings a farmers market\, antiques\, food artisans\, and local artists to the grounds of the LeDuc Historic Estate for one day only!&nbsp\; You&rsquo\;ll be delighted with the variety of art\, artist and cooking demonstrations\, delicious food\, and great antiques and collectibles. Sponsored in part by the Hastings-Prescott Area Arts Council\, Friends of LeDuc of Historic Hastings\, and ArtReach St. Croix.&nbsp\;</span></span></span><br />\n	&nbsp\;</div>\n
LOCATION:Saturday\, September 29th\,\, 10 -5 LeDuc Historic Estate 1629 Vermillion St - Hastings
UID:e.606.113375
SEQUENCE:3
DTSTAMP:20260420T014518Z
URL:https://www.hastingsmn.org/events/details/take-me-to-the-river-art-show-sale-leduc-siimmons-country-market-09-22-2012-113375
END:VEVENT

END:VCALENDAR
