BEGIN:VCALENDAR
VERSION:2.0
PRODID:-//ChamberMaster//Event Calendar 2.0//EN
METHOD:PUBLISH
X-PUBLISHED-TTL:P3D
REFRESH-INTERVAL:P3D
CALSCALE:GREGORIAN
BEGIN:VEVENT
DTSTART:20110829T000000Z
DTEND:20110829T013000Z
X-MICROSOFT-CDO-ALLDAYEVENT:FALSE
SUMMARY:Sunday Summer Free Concerts
DESCRIPTION:Bring a lawn chair or blanket - no seating provided.  Pastries\, ice cream and beverages for sale.\n\n	 \n\n	August 7 - The Squires\n\n	August 14 - David Pattridge & the Levee Singers - River Tunes\, Patriotic Songs\, Gospel and sing-a-long favorites.\n\n	August 21 - Jolly Huntsman Band - Polka music\n\n	August 28 - Xibaba Brazilian
X-ALT-DESC;FMTTYPE=text/html:<div>\n	Bring a lawn chair or blanket - no seating provided.&nbsp\;&nbsp\;Pastries\, ice cream and beverages for sale.</div>\n<div>\n	&nbsp\;</div>\n<div>\n	August&nbsp\;7 - The Squires<br />\n	August&nbsp\;14 - David Pattridge &amp\; the Levee Singers - River Tunes\, Patriotic Songs\, Gospel and sing-a-long favorites.</div>\n<div>\n	August&nbsp\;21 - Jolly Huntsman Band - Polka music<br />\n	August 28 - Xibaba Brazilian</div>
LOCATION:LeDuc Historic Estate1629 Vermillion StreetHastings\, MN Rain Location: Our Saviour's Lutheran Church\, 400 9th Street
UID:e.606.112780
SEQUENCE:3
DTSTAMP:20260421T004052Z
URL:https://www.hastingsmn.org/events/details/sunday-summer-free-concerts-08-28-2011-112780
END:VEVENT

END:VCALENDAR
