BEGIN:VCALENDAR
VERSION:2.0
PRODID:-//ChamberMaster//Event Calendar 2.0//EN
METHOD:PUBLISH
X-PUBLISHED-TTL:P3D
REFRESH-INTERVAL:P3D
CALSCALE:GREGORIAN
BEGIN:VEVENT
DTSTART:20100823T000000Z
DTEND:20100823T020000Z
X-MICROSOFT-CDO-ALLDAYEVENT:FALSE
SUMMARY:Sunday Summer Free Concerts
DESCRIPTION:Bring a lawn chair or blanket - no seating provided.  Pastries\, ice cream and beverages for sale. August 1 - "Cool Britannia" (Formerly Feeling Groovey) Jeffrey Alan and Chris Harriges perform the music of Simon and Garfunkel and sing a Lennon and McCartney Tribute.August 8 - David Pattridge & the Levee Singers - River Tunes\, Patriotic Songs\, Gospel and sing-a-long favorites.August 15 - "Doo-Da-Day" with Don & Doreen - Country\, Contemp\, Jazz\, BluesAugust 22- Jolly Huntsman Band - Polka music
X-ALT-DESC;FMTTYPE=text/html:<div>Bring a lawn chair or blanket - no seating provided.&nbsp\;&nbsp\;Pastries\, ice cream and beverages for sale.</div><div>&nbsp\;</div><div>August 1 - &quot\;Cool Britannia&quot\; (Formerly Feeling Groovey) Jeffrey Alan and Chris Harriges perform the music of Simon and Garfunkel and sing a Lennon and McCartney Tribute.</div><div>August 8 - David Pattridge &amp\; the Levee Singers - River Tunes\, Patriotic Songs\, Gospel and sing-a-long favorites.</div><div>August 15 - &quot\;Doo-Da-Day&quot\; with Don &amp\; Doreen - Country\, Contemp\, Jazz\, Blues</div><div>August 22- Jolly Huntsman Band - Polka music</div><div>&nbsp\;</div>
LOCATION:LeDuc Historic Estate1629 Vermillion StreetHastings\, MN Rain Location: Our Saviour's Lutheran Church\, 400 9th Street
UID:e.606.111807
SEQUENCE:3
DTSTAMP:20260425T135920Z
URL:https://www.hastingsmn.org/events/details/sunday-summer-free-concerts-08-22-2010-111807
END:VEVENT

END:VCALENDAR
