BEGIN:VCALENDAR
VERSION:2.0
PRODID:-//ChamberMaster//Event Calendar 2.0//EN
METHOD:PUBLISH
X-PUBLISHED-TTL:P3D
REFRESH-INTERVAL:P3D
CALSCALE:GREGORIAN
BEGIN:VEVENT
DTSTART:20110912T170000Z
DTEND:20110912T190000Z
X-MICROSOFT-CDO-ALLDAYEVENT:FALSE
SUMMARY:Sunday Brunch Cruise
DESCRIPTION:Enjoy a delicious brunch during a two-hour cruise down the beautiful St. Croix River.  Upon boarding you will receive a complimentary glass of champagne.  A cash bar is also available for other beverages.
X-ALT-DESC;FMTTYPE=text/html:<p class="MsoBodyText" style="margin: 0in 0in 0pt">\n	<font color="#000000" face="Times New Roman" size="2">Enjoy a delicious brunch during a two-hour cruise down the beautiful St. Croix River.<span style="mso-spacerun: yes">&nbsp\; </span>Upon boarding you will receive a complimentary glass of champagne.<span style="mso-spacerun: yes">&nbsp\; </span>A cash bar is also available for other beverages.</font></p>\n
LOCATION:98 Walnut Street\, Hudson\, WI Aboard the Grand Duchess
UID:e.606.113307
SEQUENCE:3
DTSTAMP:20260420T204940Z
URL:https://www.hastingsmn.org/events/details/sunday-brunch-cruise-09-12-2011-113307
END:VEVENT

END:VCALENDAR
