BEGIN:VCALENDAR
VERSION:2.0
PRODID:-//ChamberMaster//Event Calendar 2.0//EN
METHOD:PUBLISH
X-PUBLISHED-TTL:P3D
REFRESH-INTERVAL:P3D
CALSCALE:GREGORIAN
BEGIN:VEVENT
DTSTART:20100712T150000Z
DTEND:20100715T200000Z
X-MICROSOFT-CDO-ALLDAYEVENT:FALSE
SUMMARY:Summer Stomp II at the LeDuc Historic Estate
DESCRIPTION:A musical camp designed for children - Ages 6-9\, 10 a.m. to noon\; ages 10-13\, 1-3 p.m.  Themes for the week:  Practice is NOT a 4-letter word\, Pitch: the Highs & the Lows\, The patterns of Pulse\, Paint-A-Piano Day. Registration needs to be completed by July 1\, 2010.
X-ALT-DESC;FMTTYPE=text/html:A musical camp designed for children - Ages 6-9\, 10 a.m. to noon\; ages 10-13\, 1-3 p.m.  Themes for the week:  Practice is NOT a 4-letter word\, Pitch: the Highs &amp\; the Lows\, The patterns of Pulse\, Paint-A-Piano Day. Registration needs to be completed by July 1\, 2010.  
LOCATION:LeDuc Historic Estate\, 1629 Vermillion St.\, Hastings\, MN 55033
UID:e.606.111588
SEQUENCE:3
DTSTAMP:20260425T141526Z
URL:https://www.hastingsmn.org/events/details/summer-stomp-ii-at-the-leduc-historic-estate-07-12-2010-111588
END:VEVENT

END:VCALENDAR
