BEGIN:VCALENDAR
VERSION:2.0
PRODID:-//ChamberMaster//Event Calendar 2.0//EN
METHOD:PUBLISH
X-PUBLISHED-TTL:P3D
REFRESH-INTERVAL:P3D
CALSCALE:GREGORIAN
BEGIN:VEVENT
DTSTART:20120619T130000Z
DTEND:20120621T170000Z
X-MICROSOFT-CDO-ALLDAYEVENT:FALSE
SUMMARY:Summer Camp - Life with the LeDucs
DESCRIPTION:The Summer Camp - Life with the LeDucs will take place at the LeDuc Historic Estate\, Tuesday\, June 19 - Thursday\, June 21\, 8 a.m. -12 p.m. for children ages 10- 14.  This is a fun and educational class for children where they will take part in old- fashioned games & exciting outdoor adventures.  They will be dressed in period costumes provided by the Estate and will participate in activities such as taking a tour of the mansion & learning about the family\, churning butter\, cooking over an open fire\, feeding the chickens\, gardening\, learning about the Civil War\, complete with drilling & marching\, journaling & making crafts to bring home.  This class will be taught by volunteers & educators at the LeDuc.  Registration fee is $75 and should be done through www.HastingsCommunityEd.com. Questions\, please call 651-437-7055 or see www.dakotahistory.org.
X-ALT-DESC;FMTTYPE=text/html:<span style="font-size: 11px"><span style="font-family: verdana">The Summer Camp - Life with the LeDucs will take place at the LeDuc Historic Estate\, Tuesday\, June 19 - Thursday\, June 21\, 8 a.m. -12 p.m. for children ages 10- 14. &nbsp\;This is a fun and educational class for children where they will take part in old- fashioned games &amp\; exciting outdoor adventures. &nbsp\;They will be dressed in period costumes provided by the Estate and will participate in activities such as taking a tour of the mansion &amp\; learning about the family\, churning butter\, cooking over an open fire\, feeding the chickens\, gardening\, learning about the Civil War\, complete with drilling &amp\; marching\, journaling &amp\; making crafts to bring home. &nbsp\;This class will be taught by volunteers &amp\; educators at the LeDuc. &nbsp\;Registration fee is $75 and should be done through www.HastingsCommunityEd.com. Questions\, please call 651-437-7055 or see www.dakotahistory.org.&nbsp\;</span></span>
LOCATION:LeDuc Historic Estate - 1629 Vermillion Street\, Hastings\, MN 55033
UID:e.606.113679
SEQUENCE:3
DTSTAMP:20260420T070125Z
URL:https://www.hastingsmn.org/events/details/summer-camp-life-with-the-leducs-06-19-2012-113679
END:VEVENT

END:VCALENDAR
