BEGIN:VCALENDAR
VERSION:2.0
PRODID:-//ChamberMaster//Event Calendar 2.0//EN
METHOD:PUBLISH
X-PUBLISHED-TTL:P3D
REFRESH-INTERVAL:P3D
CALSCALE:GREGORIAN
BEGIN:VEVENT
DTSTART:20111119T160000Z
DTEND:20111119T193000Z
X-MICROSOFT-CDO-ALLDAYEVENT:FALSE
SUMMARY:St. Philips Lutheran Church Bake Sale & Soup Lunch
DESCRIPTION:Special Scandinavian delicasies\, cookies\, bars\, cakes\, pies\, & breads. plus canned goods.\n\n\n\nLuncheon consisting of either chicken noodle or beef vegetable soup\, roll\, Rice Krispie treat\, beverage @ $4.50 served from 11 a.m.-1:30 p.m. and take-out orders @ $7.00 available from 10 a.m.-1:30 p.m. \n\n\n\nSt. Philips Lutheran Church cookbooks discounted at $10.00. \n\n\n\nProceeds go to local\, U.S.\, & world missions\, Bibles for children\, camperships & scholarships.
X-ALT-DESC;FMTTYPE=text/html:Special Scandinavian delicasies\, cookies\, bars\, cakes\, pies\, &amp\; breads. plus canned goods.<br />\n<br />\nLuncheon consisting of either chicken noodle or beef vegetable soup\, roll\, Rice Krispie treat\, beverage @ $4.50 served from 11 a.m.-1:30 p.m. and take-out orders @ $7.00 available from 10 a.m.-1:30 p.m.&nbsp\;<br />\n<br />\nSt. Philips Lutheran Church cookbooks discounted at $10.00.&nbsp\;<br />\n<br />\nProceeds go to local\, U.S.\, &amp\; world missions\, Bibles for children\, camperships &amp\; scholarships.&nbsp\;
LOCATION:St. Philips Lutheran Church\, 1401 15th St W Hastings\, MN 55033
UID:e.606.113339
SEQUENCE:3
DTSTAMP:20260420T173459Z
URL:https://www.hastingsmn.org/events/details/st-philips-lutheran-church-bake-sale-soup-lunch-11-19-2011-113339
END:VEVENT

END:VCALENDAR
