BEGIN:VCALENDAR
VERSION:2.0
PRODID:-//ChamberMaster//Event Calendar 2.0//EN
METHOD:PUBLISH
X-PUBLISHED-TTL:P3D
REFRESH-INTERVAL:P3D
CALSCALE:GREGORIAN
BEGIN:VEVENT
DTSTART:20130514T213000Z
DTEND:20130514T233000Z
X-MICROSOFT-CDO-ALLDAYEVENT:FALSE
SUMMARY:South of the River Small Business & Business After Hours - Chamber Members Only
DESCRIPTION:South of the River Small Business Expo and Business After Hours\n	\n		Tuesday\, May 14th\, from 4:30-6:30 PM\n	\n		 \n	\n		Join us at the Buck Hill Event Center to network with other Chamber members from Dakota County. Event includes complimentary hors d'oeuvres\, a cash bar and exhibits by members from each of the participating chambers. The cost to reserve an 8 ft. table is $125\, which includes table skirting and electricity. Please specify if you have a floor display. Each vendor is asked to provide their own signage.  Exhibit space is limited.  \n\n		 \n	\n		To reserve your space\, please call the Hastings Chamber office at (651) 437-6775.  Registrations & payments are due by Friday\, May 3. \n	\n		\n\n		\n\n		Seminar Schedule for Small Business Expo\n	\n		Tuesday\, May 14th at Buck Hill Event Center\n	\n		 \n	\n		\n			\n				\n					\n						2:30 \n					\n						 \n				\n				\n					Accessing Minnesota's Support for\n\n					Angel Investments and Entrepreneurs -\n\n					Learn about available options for obtaining\n\n					financial assistance from the State of MN.\n			\n			\n				\n					2:30\n				\n					Open to Business -\n\n					Introduction to the no charge business\n\n					counseling offered to current and prospective entrepreneurs.\n			\n			\n				\n					3:30\n				\n					How to Get Your Stories Told -\n\n					Managing Editor for Star Tribune shares tips\n\n					for getting your stories covered in a variety of media venues.\n			\n		\n	\n	\n		 \n	\n		Click here to download full seminar descriptions.\n	\n		 \n	\n		Business Expo and Business After Hours will be from 4:30-6:30 following the seminars.
X-ALT-DESC;FMTTYPE=text/html:<div style="color: gray">\n	<p style="margin-top: 0px\; font-family: Arial\, Helvetica\, sans-serif\; margin-bottom: 0px\; color: #7e534b\; font-size: 14pt\; font-weight: bold">\n		South of the River Small Business Expo and Business After Hours</p>\n	<p style="margin-top: 0px\; font-family: Arial\, Helvetica\, sans-serif\; margin-bottom: 0px\; color: #333333\; font-size: 10pt">\n		<span style="font-family: Arial\, Helvetica\, sans-serif\; color: #2b6aa9\; font-size: 12pt"><strong>Tuesday\, May 14th\, from 4:30-6:30 PM</strong></span></p>\n	<p style="margin-top: 0px\; font-family: Arial\, Helvetica\, sans-serif\; margin-bottom: 0px\; color: #333333\; font-size: 10pt">\n		<span color="#333333" size="2" style="color: #333333\; font-size: 9pt">&nbsp\;</span></p>\n	<p style="margin-top: 0px\; font-family: Arial\, Helvetica\, sans-serif\; margin-bottom: 0px\; color: #333333\; font-size: 10pt">\n		<span color="#333333" size="2" style="color: #333333\; font-size: 9pt">Join us at the Buck Hill Event Center to network with other Chamber members from Dakota County. Event includes complimentary </span><span color="#333333" size="2" style="color: #333333\; font-size: 9pt">hors d&#39\;oeuvres\, a cash bar and exhibits by members from each of the participating chambers. The cost to reserve an 8 ft. table is </span><span color="#333333" size="2" style="color: #333333\; font-size: 9pt">$125\, which includes table skirting and electricity. Please specify if you have a floor display. Each vendor is asked to provide their </span><span color="#333333" size="2" style="color: #333333\; font-size: 9pt">own signage.&nbsp\;&nbsp\;Exhibit space is limited. &nbsp\;</span><br />\n		&nbsp\;</p>\n	<div style="color: #000000">\n		<span style="font-family: Arial\, Helvetica\, sans-serif\; color: #ff6600\; font-size: 10pt">To reserve your space\, please call the Hastings Chamber office at (651) 437-6775. &nbsp\;Registrations &amp\; payments are due by Friday\, May 3.</span><span color="#000000" face="Times New Roman" size="3">&nbsp\;</span></div>\n	<p style="margin-top: 0px\; font-family: Arial\, Helvetica\, sans-serif\; margin-bottom: 0px\; color: #7e534b\; font-size: 14pt\; font-weight: bold">\n		<br />\n		<br />\n		Seminar Schedule for&nbsp\;Small Business Expo</p>\n	<p style="margin-top: 0px\; font-family: Arial\, Helvetica\, sans-serif\; margin-bottom: 0px\; color: #7e534b\; font-size: 14pt\; font-weight: bold">\n		<span style="font-family: Arial\, Helvetica\, sans-serif\; color: #2b6aa9\; font-size: 12pt"><strong>Tuesday\, May 14th at Buck Hill Event Center</strong></span></p>\n	<p style="margin-top: 0px\; font-family: Arial\, Helvetica\, sans-serif\; margin-bottom: 0px\; color: #7e534b\; font-size: 14pt\; font-weight: bold">\n		<span style="font-family: Arial\, Helvetica\, sans-serif\; color: #2b6aa9\; font-size: 12pt">&nbsp\;</span></p>\n	<table cellpadding="3" cellspacing="0" style="border-bottom: 0px\; border-left: 0px\; background-color: transparent\; width: 100%\; height: 100px\; border-top: 0px\; border-right: 0px">\n		<tbody>\n			<tr>\n				<td style="font-style: normal\; width: 38px\; font-family: Times New Roman\; word-wrap: break-word\; height: 46px\; color: #000000\; font-size: 16px\; vertical-align: top\; word-break: break-all\; font-weight: 400">\n					<p style="margin-top: 0px\; margin-bottom: 0px">\n						2:30&nbsp\;</p>\n					<p style="margin-top: 0px\; margin-bottom: 0px">\n						<strong>&nbsp\;</strong></p>\n				</td>\n				<td style="font-style: normal\; width: 355px\; font-family: Times New Roman\; word-wrap: break-word\; height: 46px\; color: #000000\; font-size: 16px\; vertical-align: top\; word-break: break-all\; font-weight: 400">\n					<strong>Accessing Minnesota&#39\;s Support for<br />\n					Angel Investments </strong><strong>and Entrepreneurs -</strong><br />\n					Learn about available options for obtaining<br />\n					financial assistance from the State of MN.</td>\n			</tr>\n			<tr>\n				<td style="font-style: normal\; width: 38px\; font-family: Times New Roman\; word-wrap: break-word\; height: 46px\; color: #000000\; font-size: 16px\; vertical-align: top\; word-break: break-all\; font-weight: 400">\n					2:30</td>\n				<td style="font-style: normal\; width: 355px\; font-family: Times New Roman\; word-wrap: break-word\; height: 46px\; color: #000000\; font-size: 16px\; vertical-align: top\; word-break: break-all\; font-weight: 400">\n					<strong>Open to Business</strong> -<br />\n					Introduction to the no charge&nbsp\;business<br />\n					counseling&nbsp\;offered to current and prospective entrepreneurs.</td>\n			</tr>\n			<tr>\n				<td style="font-style: normal\; width: 38px\; font-family: Times New Roman\; word-wrap: break-word\; height: 46px\; color: #000000\; font-size: 16px\; vertical-align: top\; word-break: break-all\; font-weight: 400">\n					3:30</td>\n				<td style="font-style: normal\; width: 355px\; font-family: Times New Roman\; word-wrap: break-word\; height: 46px\; color: #000000\; font-size: 16px\; vertical-align: top\; word-break: break-all\; font-weight: 400">\n					<strong>How to Get Your Stories Told</strong> -<br />\n					Managing Editor for Star Tribune shares tips<br />\n					for getting your stories covered in a variety of media venues.</td>\n			</tr>\n		</tbody>\n	</table>\n	<p style="margin-top: 0px\; font-family: Arial\, Helvetica\, sans-serif\; margin-bottom: 0px\; color: #333333\; font-size: 10pt">\n		<span color="#333333" size="2" style="color: #333333\; font-size: 9pt">&nbsp\;</span></p>\n	<div style="color: #000000">\n		<span style="font-family: Arial\, Helvetica\, sans-serif\; color: #ff6600\; font-size: 10pt"><a href="http://r20.rs6.net/tn.jsp?e=001_69gmQfQEcevaJsLncY3y10mfH8lWalix2ClbU8U8ICKMjPQhlg0SyTRUKyJcoWMxOeEJPN2c_-2pUXTSVhyMXmhOdQDoefOmnSnJAy6NA_KQwXR6bFtNmBe2_MxaEcN4dv9QmvdFqC106xTiaJjtZvvBm7JSech0DzrQEsU5qLtDlIa05xIxTj63sMZdSxO" linktype="document" ref="ACCOUNT.DOCUMENT.23" shape="rect" style="color: blue\; text-decoration: underline" target="_blank" title="http://r20.rs6.net/tn.jsp?e=001_69gmQfQEcevaJsLncY3y10mfH8lWalix2ClbU8U8ICKMjPQhlg0SyTRUKyJcoWMxOeEJPN2c_-2pUXTSVhyMXmhOdQDoefOmnSnJAy6NA_KQwXR6bFtNmBe2_MxaEcN4dv9QmvdFqC106xTiaJjtZvvBm7JSech0DzrQEsU5qLtDlIa05xIxTj63sMZdSxO" track="on">Click here to download full seminar descriptions.</a></span></div>\n	<div style="color: #000000">\n		<span style="font-family: Arial\, Helvetica\, sans-serif\; color: #ff6600\; font-size: 10pt">&nbsp\;</span></div>\n	<div style="color: #000000">\n		<span style="font-family: Arial\, Helvetica\, sans-serif\; color: #ff6600\; font-size: 10pt">Business Expo and Business After Hours&nbsp\;will be&nbsp\;from 4:30-6:30&nbsp\;following&nbsp\;the seminars.&nbsp\;</span></div>\n</div>\n
LOCATION:Buckhill Event Center 15400 Buck Hill Road Burnsville\, MN 55306
UID:e.606.113829
SEQUENCE:3
DTSTAMP:20260421T082926Z
URL:https://www.hastingsmn.org/events/details/south-of-the-river-small-business-business-after-hours-chamber-members-only-05-14-2013-113829
END:VEVENT

END:VCALENDAR
