BEGIN:VCALENDAR
VERSION:2.0
PRODID:-//ChamberMaster//Event Calendar 2.0//EN
METHOD:PUBLISH
X-PUBLISHED-TTL:P3D
REFRESH-INTERVAL:P3D
CALSCALE:GREGORIAN
BEGIN:VEVENT
DTSTART:20110825T000000Z
DTEND:20110825T020000Z
X-MICROSOFT-CDO-ALLDAYEVENT:FALSE
SUMMARY:South of the River Chambers of Commerce (Membership Breakfast)
DESCRIPTION:Speaker: Representative John Kline\, 2nd Congressional District\,\n\n\n\nHear the lastest of Health Care Reform - where do we go now?\n\nThe latest update on Employee Free Choice (card check) legalization\n\nFinance Regulation & Reform Legislation\n\nJobs - What is Congress doing to help small busines\n\n\n\nHear answers to all of these questions and ask a few of your own!
X-ALT-DESC;FMTTYPE=text/html:Speaker: Representative John Kline\, 2nd Congressional District\,<br />\n<br />\nHear the lastest of Health Care Reform - where do we go now?<br />\nThe latest update on Employee Free Choice (card check) legalization<br />\nFinance Regulation &amp\; Reform Legislation<br />\nJobs - What is Congress doing to help small busines<br />\n<br />\nHear answers to all of these questions and ask a few of your own!
LOCATION:Brackett's Crossing Country Club 17976 Judicial Rd Lakeville\, MN 55044
UID:e.606.113288
SEQUENCE:3
DTSTAMP:20260420T225325Z
URL:https://www.hastingsmn.org/events/details/south-of-the-river-chambers-of-commerce-membership-breakfast-08-24-2011-113288
END:VEVENT

END:VCALENDAR
