BEGIN:VCALENDAR
VERSION:2.0
PRODID:-//ChamberMaster//Event Calendar 2.0//EN
METHOD:PUBLISH
X-PUBLISHED-TTL:P3D
REFRESH-INTERVAL:P3D
CALSCALE:GREGORIAN
BEGIN:VEVENT
DTSTART:20101103T123000Z
DTEND:20101103T140000Z
X-MICROSOFT-CDO-ALLDAYEVENT:FALSE
SUMMARY:Social Media Presentation
DESCRIPTION:Intro to Social Media on 10/13.  \n\n  \n\nIntegrating Social Media Into A Common-Sense Business Strategy on 11/3.\n\n\n\nSo\, you think it's necessary to learn more about social media? We don't blame you.  Blogging\, LinkedIn\, Twitter\, Facebook and YouTube are buzz words thrown around offices and coffee shops worldwide.  Do you know how to use social media to help grow your business? Our social media two part presentation will show you how. Use Social Networking to get your business in front of your clients!  \n\n\n\nDave Meyer has 17 years experience in media relations\, internal communications and marketing\, and is the president and owner of BizzyWeb.  \n\n \n\nUsing Facebook\, Twitter and LinkedIn\, Dave will talk about the purpose of each one\, and give you directions on how to setup\, manage and maintain your accounts to achieve maximum results.   When Dave is done\, you will understand a whole new and powerful world for marketing and growing your business through direct contact and conversation with your customers and target market.\n\n \n\nDave creates and hosts web sites for small businesses and helps them use social media strategies and tactics to make a big impact on a limited budget. In this new age of conversation\, his straightforward tactics and strategic focus on measurable outcomes has helped dozens of companies market their services more efficiently and build their brands online. His company's motto is "Generate Buzz Without Getting Stung!"
X-ALT-DESC;FMTTYPE=text/html:<span style="font-size: 12px"><strong><span style="color: #006400"><span style="background-color: #ffffff">Intro to Social Media on 10/13.</span><span _fck_bookmark="1" style="display: none">&nbsp\;</span><span _fck_bookmark="1" style="display: none">&nbsp\;</span></span></strong><br />\n<span _fck_bookmark="1" style="display: none">&nbsp\;</span><span _fck_bookmark="1" style="display: none">&nbsp\;</span><br />\n<strong><span style="color: #006400">Integrating Social Media Into A Common-Sense Business Strategy on 11/3.</span></strong></span><br />\n<br />\n<span style="letter-spacing: 0pt"><span style="font-size: 9pt"><span style="color: windowtext"><span style="font-family: arial">So\, you think it&rsquo\;s necessary to learn more about social media? We don&rsquo\;t blame you.&nbsp\; </span></span></span></span><span style="letter-spacing: 0pt"><span style="font-size: 9pt"><span style="color: windowtext"><span style="font-family: arial">Blogging\, LinkedIn\, Twitter\, Facebook and YouTube are buzz words thrown around offices and coffee shops worldwide.&nbsp\; Do you know how to use social media to help grow your business? Our social media two part presentation will show you how. Use Social Networking to get your business in front of your clients!&nbsp\; </span></span></span></span><br />\n<br />\n<span style="font-size: 9pt"><span style="font-family: arial">Dave Meyer has 17 years experience in media relations\, internal communications and marketing\, and is the president and owner of BizzyWeb.&nbsp\; </span></span><br />\n&nbsp\;<br />\n<span style="font-size: 9pt"><span style="font-family: arial">Using Facebook\, Twitter and LinkedIn\, Dave will talk about the purpose of each one\, and give you directions on how to setup\, manage and maintain your accounts to achieve maximum results.&nbsp\;&nbsp\; When Dave is done\, you will understand a whole new and powerful world for marketing and growing your business through direct contact and conversation with your customers and target market.</span></span><br />\n&nbsp\;<br />\n<span style="font-size: 9pt"><span style="font-family: arial">Dave creates and hosts web sites for small businesses and helps them use social media strategies and tactics to make a big impact on a limited budget. In this new age of conversation\, his straightforward tactics and strategic focus on measurable outcomes has helped dozens of companies market their services more efficiently and build their brands online. His company&rsquo\;s motto is &ldquo\;Generate Buzz Without Getting Stung!&rdquo\;&nbsp\;</span></span><br />\n<br />\n
LOCATION:River Oaks Golf Course 11099 South Hwy. 61 Cottage Grove\, MN 55016
UID:e.606.111983
SEQUENCE:3
DTSTAMP:20260423T071010Z
URL:https://www.hastingsmn.org/events/details/social-media-presentation-11-03-2010-111983
END:VEVENT

END:VCALENDAR
