BEGIN:VCALENDAR
VERSION:2.0
PRODID:-//ChamberMaster//Event Calendar 2.0//EN
METHOD:PUBLISH
X-PUBLISHED-TTL:P3D
REFRESH-INTERVAL:P3D
CALSCALE:GREGORIAN
BEGIN:VEVENT
DTSTART:20100130T010000Z
DTEND:20100130T030000Z
X-MICROSOFT-CDO-ALLDAYEVENT:FALSE
SUMMARY:Snowshow Hike
DESCRIPTION:Enjoy a relaxing winter moonlight snowshoe hike.  Then\, come and warm up near the fire and we'll have popcorn\, apple cider and fellowship.  Snowshoes will be provided for those who need them.  Recommended for those ages 10 and older.
X-ALT-DESC;FMTTYPE=text/html:<div>Enjoy a relaxing winter moonlight snowshoe hike.&nbsp\; Then\, come and warm up near the fire and we'll have popcorn\, apple cider and fellowship.&nbsp\;</div><div>&nbsp\;</div><div>Snowshoes will be provided for those who need them.&nbsp\; Recommended for those ages 10 and older.</div>
LOCATION:Carpenter St. Croix Valley Nature Center12805 St. Croix Tr S.Hastings MN
UID:e.606.111514
SEQUENCE:3
DTSTAMP:20260425T224631Z
URL:https://www.hastingsmn.org/events/details/snowshow-hike-01-29-2010-111514
END:VEVENT

END:VCALENDAR
