BEGIN:VCALENDAR
VERSION:2.0
PRODID:-//ChamberMaster//Event Calendar 2.0//EN
METHOD:PUBLISH
X-PUBLISHED-TTL:P3D
REFRESH-INTERVAL:P3D
CALSCALE:GREGORIAN
BEGIN:VEVENT
DTSTART;VALUE=DATE:20111126
DTEND;VALUE=DATE:20111127
TRANSP:TRANSPARENT
X-MICROSOFT-CDO-ALLDAYEVENT:TRUE
SUMMARY:Small Business Saturday
DESCRIPTION:Saturday\, November 26\, 2011 is Small Business Saturday    a day to celebrate and support small businesses and all they do for their communities.  Please join the Small Business Administration and organizations across the country in supporting your local small business by shopping at a small business.
X-ALT-DESC;FMTTYPE=text/html:<span style="font-size: 12px">Saturday\, November 26\, 2011 is <strong><span style="font-size: 16px"><span style="color: #cc3333">Small Business Saturday&reg\; </span></span></strong>&ndash\; a day to celebrate and support small businesses and all they do for their communities. &nbsp\;Please join the Small Business Administration and organizations across the country in supporting your local small business by shopping at a small business.<span _fck_bookmark="1" style="display: none">&nbsp\;</span></span>
LOCATION:
UID:e.606.113365
SEQUENCE:3
DTSTAMP:20260420T173209Z
URL:https://www.hastingsmn.org/events/details/small-business-saturday-11-26-2011-113365
END:VEVENT

END:VCALENDAR
