BEGIN:VCALENDAR
VERSION:2.0
PRODID:-//ChamberMaster//Event Calendar 2.0//EN
METHOD:PUBLISH
X-PUBLISHED-TTL:P3D
REFRESH-INTERVAL:P3D
CALSCALE:GREGORIAN
BEGIN:VEVENT
DTSTART:20121025T233000Z
DTEND:20121031T233000Z
X-MICROSOFT-CDO-ALLDAYEVENT:FALSE
SUMMARY:Sleepy Hollow
DESCRIPTION:NewBridge Theatre Company proudly presents Sleepy Hollow\; Book by Judy Freed Music by Elizabeth Doyle and Lyrics by Own Kalt.  \n\n\n\nShow times are October 25\, 26 & 27th @ 6:30 p.m.\, October 28th @ 2pm and October 31st @ 6:30.\n\n\n\nThis musical version of Sleepy Hollow is perfect for the entire family!  Bring the kids dressed in costume and you will enjoy a talk back after the show with the actors!  $5 for students\, $10 for adults.\n\n\n\nReserve your tickets by calling 651-295-3224 or visit: newbridgetc.com\n\n\n\nProduced by special arrangement with YouthPLAYS (www.youthplays.com)
X-ALT-DESC;FMTTYPE=text/html:NewBridge Theatre Company proudly presents Sleepy Hollow\; Book by Judy Freed Music by Elizabeth Doyle and Lyrics by Own Kalt. &nbsp\;<br />\n<br />\nShow times are October 25\, 26 &amp\; 27th @ 6:30 p.m.\, October 28th&nbsp\;@ 2pm and October 31st @ 6:30.<br />\n<br />\nThis musical version of Sleepy Hollow is perfect for the entire family! &nbsp\;Bring the kids dressed in costume and you will enjoy a talk back after the show with the actors! &nbsp\;$5 for students\, $10 for adults.<br />\n<br />\nReserve your tickets by calling 651-295-3224 or visit: newbridgetc.com<br />\n<br />\nProduced by special arrangement with YouthPLAYS (www.youthplays.com)<br />\n
LOCATION:NewBridge Theatre Company 105 2nd St. E Hastings\, MN 55033
UID:e.606.113711
SEQUENCE:3
DTSTAMP:20260419T215218Z
URL:https://www.hastingsmn.org/events/details/sleepy-hollow-10-25-2012-113711
END:VEVENT

END:VCALENDAR
