BEGIN:VCALENDAR
VERSION:2.0
PRODID:-//ChamberMaster//Event Calendar 2.0//EN
METHOD:PUBLISH
X-PUBLISHED-TTL:P3D
REFRESH-INTERVAL:P3D
CALSCALE:GREGORIAN
BEGIN:VEVENT
DTSTART:20130308T010000Z
DTEND:20130317T010000Z
X-MICROSOFT-CDO-ALLDAYEVENT:FALSE
SUMMARY:Servant of Two Masters
DESCRIPTION:Great Family Fun!  All ages will find humor in this wonderful comedy!  Identities are mistaken\, engagements are broken and lovers are reunited in Carlo Goldoni's commedia dell'arte masterpiece. Mayhem erupts when the wily and chronically hungry  servant Truffaldino hatches a zany scheme to double his wages (and his meals) by serving two masters at once.  http://www.newbridgetheatrecompany.com/Upcoming_Events.html
X-ALT-DESC;FMTTYPE=text/html:<span style="font-family: arialmt\; color: rgb(46\,111\,253)\; font-size: 14pt">Great Family Fun! &nbsp\;All ages will find humor in this wonderful comedy! &nbsp\;Identities are mistaken\, engagements are broken and lovers are reunited in Carlo Goldoni&rsquo\;s commedia dell&rsquo\;arte masterpiece. Mayhem erupts when the wily&mdash\;and chronically hungry&mdash\; servant Truffaldino hatches a zany scheme to double his wages (and his meals) by serving two masters at once. &nbsp\;</span>http://www.newbridgetheatrecompany.com/Upcoming_Events.html
LOCATION:NewBridge Theatre Company
UID:e.606.113780
SEQUENCE:3
DTSTAMP:20260419T131138Z
URL:https://www.hastingsmn.org/events/details/servant-of-two-masters-03-07-2013-113780
END:VEVENT

END:VCALENDAR
